BEGIN:VCALENDAR
VERSION:2.0
PRODID:-//Monts Actus - ECPv5.16.1//NONSGML v1.0//EN
CALSCALE:GREGORIAN
METHOD:PUBLISH
X-WR-CALNAME:Monts Actus
X-ORIGINAL-URL:https://monts-actus.fr
X-WR-CALDESC:Events for Monts Actus
REFRESH-INTERVAL;VALUE=DURATION:PT1H
X-Robots-Tag:noindex
X-PUBLISHED-TTL:PT1H
BEGIN:VTIMEZONE
TZID:Europe/Paris
BEGIN:DAYLIGHT
TZOFFSETFROM:+0100
TZOFFSETTO:+0200
TZNAME:CEST
DTSTART:20230326T010000
END:DAYLIGHT
BEGIN:STANDARD
TZOFFSETFROM:+0200
TZOFFSETTO:+0100
TZNAME:CET
DTSTART:20231029T010000
END:STANDARD
END:VTIMEZONE
BEGIN:VEVENT
DTSTART;TZID=Europe/Paris:20230707T183000
DTEND;TZID=Europe/Paris:20230707T220000
DTSTAMP:20260421T145252
CREATED:20230519T091816Z
LAST-MODIFIED:20230522T092311Z
UID:5173-1688754600-1688767200@monts-actus.fr
SUMMARY:Marché Nocturne - Aveize
DESCRIPTION:Le Marché nocturne d’Aveize revient vendredi 7 juillet à partir de 18h30.  \nMarché nocturne et feu d’artifice organisé par le Groupe d’Animation en collaboration avec l’Office du Tourisme des Monts du Lyonnais. \nFeu d’artifice à 22h30 \nLieu : Gymnase Jean Moulin\nAdresse : Rue des Cures – 69610 Aveize\nTéléphone : 06 69 63 37 85
URL:https://monts-actus.fr/agenda/marche-nocturne-aveize-2023/
LOCATION:Aveize
CATEGORIES:Aveize
ATTACH;FMTTYPE=image/jpeg:https://monts-actus.fr/wp-content/uploads/2023/05/marche-nocturne-2023-aveize-Monts-Actus.jpg
END:VEVENT
END:VCALENDAR