BEGIN:VCALENDAR
VERSION:2.0
PRODID:-//Monts Actus - ECPv5.16.1//NONSGML v1.0//EN
CALSCALE:GREGORIAN
METHOD:PUBLISH
X-ORIGINAL-URL:https://monts-actus.fr
X-WR-CALDESC:Events for Monts Actus
REFRESH-INTERVAL;VALUE=DURATION:PT1H
X-Robots-Tag:noindex
X-PUBLISHED-TTL:PT1H
BEGIN:VTIMEZONE
TZID:Europe/Paris
BEGIN:DAYLIGHT
TZOFFSETFROM:+0100
TZOFFSETTO:+0200
TZNAME:CEST
DTSTART:20240331T010000
END:DAYLIGHT
BEGIN:STANDARD
TZOFFSETFROM:+0200
TZOFFSETTO:+0100
TZNAME:CET
DTSTART:20241027T010000
END:STANDARD
END:VTIMEZONE
BEGIN:VEVENT
DTSTART;TZID=Europe/Paris:20240323T200000
DTEND;TZID=Europe/Paris:20240323T200000
DTSTAMP:20260421T223620
CREATED:20240312T140000Z
LAST-MODIFIED:20240312T140000Z
UID:7174-1711224000-1711224000@monts-actus.fr
SUMMARY:Concert
DESCRIPTION:Concert de 2 chorales à Beauvallon – Samedi 23 mars 2024 \nLa chorale « Chant d’Eole » de Saint-Andéol-le-Château invite la chorale « Le Choeur en Fête » de Juliénas à partager un concert au profit de l’Association humanitaire « Thia Kaw Sénégal ». \nRendez-vous à 20 h à la salle des Varennes à Chassagny \nLe concert se déroule en deux parties entrecoupées d’un entracte avec buvette. \nEntrée libre – participation au chapeau
URL:https://monts-actus.fr/agenda/concert/
LOCATION:Beauvallon
CATEGORIES:Beauvallon
ATTACH;FMTTYPE=image/jpeg:https://monts-actus.fr/wp-content/uploads/2024/03/Concert-Beauvallon-23-mars-2024-Monts-Actus.jpg
END:VEVENT
END:VCALENDAR