BEGIN:VCALENDAR
VERSION:2.0
PRODID:-//Monts Actus - ECPv5.16.1//NONSGML v1.0//EN
CALSCALE:GREGORIAN
METHOD:PUBLISH
X-ORIGINAL-URL:https://monts-actus.fr
X-WR-CALDESC:Events for Monts Actus
REFRESH-INTERVAL;VALUE=DURATION:PT1H
X-Robots-Tag:noindex
X-PUBLISHED-TTL:PT1H
BEGIN:VTIMEZONE
TZID:Europe/Paris
BEGIN:DAYLIGHT
TZOFFSETFROM:+0100
TZOFFSETTO:+0200
TZNAME:CEST
DTSTART:20240331T010000
END:DAYLIGHT
BEGIN:STANDARD
TZOFFSETFROM:+0200
TZOFFSETTO:+0100
TZNAME:CET
DTSTART:20241027T010000
END:STANDARD
END:VTIMEZONE
BEGIN:VEVENT
DTSTART;TZID=Europe/Paris:20240525T100000
DTEND;TZID=Europe/Paris:20240525T233000
DTSTAMP:20260421T190259
CREATED:20240513T085638Z
LAST-MODIFIED:20240514T135213Z
UID:7841-1716631200-1716679800@monts-actus.fr
SUMMARY:Le Village Olympique #3
DESCRIPTION:Le Village Olympique #3 à Beauvallon – Samedi 25 mai 2024 \nÉvènement organisée par la Copamo – Communauté de communes du Pays Mornantais et CPTS des Coteaux Rhodaniens \nRendez-vous au Clos Souchon à Saint-Andéol-le-Château à partir de 10 h. \nAvec le label « Terre de Jeux 2024 »\, le Pays Mornantais participe à sa mesure aux Jeux Olympiques. \nDe 10 h à 16 h 30\, place au forum « sport\, santé\, bien-être » avec des stands d’informations et de dépistage\, des ateliers thématiques\, des conseils santé de la naissance au grand âge\, mais aussi des accompagnements pour une bonne pratique sportive tout au long de la vie. Bref\, de quoi de se mettre en forme olympique\, grâce aux professionnels de la CPTS des coteaux rhodaniens ! \nEt dès 14 h\, on chausse les baskets pour participer à une grande journée sportive et familiale.\nAu programme : des rencontres avec des athlètes olympiques et paralympiques\, des animations sportives\, des démonstrations\, un raid multisports à disputer en famille ou entre amis\, un grand défilé tout en musique\, un défi exceptionnel autour de la « Danse officielle des Jeux olympiques de Paris 2024 »\, la diffusion sur écran géant de la finale de la coupe de France Olympique lyonnais / Paris-Saint-Germain\, et en guise de bouquet final un feu d’artifice. \nProgramme complet \n 
URL:https://monts-actus.fr/agenda/le-village-olympique-3/
LOCATION:Beauvallon
CATEGORIES:Beauvallon
ATTACH;FMTTYPE=image/jpeg:https://monts-actus.fr/wp-content/uploads/2024/05/Village-olympique-Beauvallon-25-mai-2024-Monts-Actus.jpg
END:VEVENT
END:VCALENDAR