BEGIN:VCALENDAR
VERSION:2.0
PRODID:-//Monts Actus - ECPv5.16.1//NONSGML v1.0//EN
CALSCALE:GREGORIAN
METHOD:PUBLISH
X-WR-CALNAME:Monts Actus
X-ORIGINAL-URL:https://monts-actus.fr
X-WR-CALDESC:Events for Monts Actus
REFRESH-INTERVAL;VALUE=DURATION:PT1H
X-Robots-Tag:noindex
X-PUBLISHED-TTL:PT1H
BEGIN:VTIMEZONE
TZID:Europe/Paris
BEGIN:DAYLIGHT
TZOFFSETFROM:+0100
TZOFFSETTO:+0200
TZNAME:CEST
DTSTART:20240331T010000
END:DAYLIGHT
BEGIN:STANDARD
TZOFFSETFROM:+0200
TZOFFSETTO:+0100
TZNAME:CET
DTSTART:20241027T010000
END:STANDARD
END:VTIMEZONE
BEGIN:VEVENT
DTSTART;TZID=Europe/Paris:20240602T153000
DTEND;TZID=Europe/Paris:20240602T153000
DTSTAMP:20260421T173403
CREATED:20240527T101931Z
LAST-MODIFIED:20240527T102038Z
UID:7989-1717342200-1717342200@monts-actus.fr
SUMMARY:Spectacle de danse contemporaine
DESCRIPTION:Spectacle de danse contemporaine à Beauvallon – Dimanche 2 juin 2024 \nRendez-vous au Gymnase de Saint Jean de Touslas\, rue du Levant à 15 h 30. \nReprésentation des élèves de l’association « Espace Danse » de Mornant\, au profit du Collectif Accueil Migrants en Pays Mornantais. proposé par l’association « Vivre en Pays Mornantais ». \nParticipation libre.
URL:https://monts-actus.fr/agenda/spectacle-de-danse-contemporaine/
LOCATION:Beauvallon
CATEGORIES:Beauvallon
ATTACH;FMTTYPE=image/jpeg:https://monts-actus.fr/wp-content/uploads/2024/05/spectacle-de-danse-contemporaine-Beauvallon-2-juin-2024-Monts-Actus.jpg
END:VEVENT
BEGIN:VEVENT
DTSTART;TZID=Europe/Paris:20240622T170000
DTEND;TZID=Europe/Paris:20240622T230000
DTSTAMP:20260421T173403
CREATED:20240530T094034Z
LAST-MODIFIED:20240530T094206Z
UID:8044-1719075600-1719097200@monts-actus.fr
SUMMARY:Les arts au village
DESCRIPTION:Les arts au village à Beauvallon – Samedi 22 juin 2024 \nRendez-vous au Parc du Clos Souchon de 17 h à 23 h. \nArtistes et créateurs : Concert « Lazy Birds » : quartet swing band\, jazz\, chansons françaises… et lâcher de poèmes. \nLa Journée Poétique ! La poétesse Josiane Asmane nous fait l’honneur d’être présente pour fêter la poésie. \nAu programme : \n10 h à 11 h 30 – atelier d’écriture – gratuit\, sur inscription. (06 60 97 55 48 / bibliothequeandeolaise@gmail.com) \nDéjeuner – lecture de poèmes au restaurant Terra Cotta. Réservations : contact@terracotta-restaurant.com \n18 h 30 – lâcher de poème depuis le balcon de la mairie : La poétesse Josiane Asmane lancera le poème Liberté de Paul Eluard ainsi que 2 poèmes des lauréats du concours. \nEntrée libre. \nBuvette et restauration rapide.
URL:https://monts-actus.fr/agenda/les-arts-au-village/
LOCATION:Beauvallon
CATEGORIES:Beauvallon
ATTACH;FMTTYPE=image/jpeg:https://monts-actus.fr/wp-content/uploads/2024/05/Les-arts-du-village-Beauvallon-22-juin-2024-Monts-Actus.jpg
END:VEVENT
END:VCALENDAR