BEGIN:VCALENDAR
VERSION:2.0
PRODID:-//Monts Actus - ECPv5.16.1//NONSGML v1.0//EN
CALSCALE:GREGORIAN
METHOD:PUBLISH
X-ORIGINAL-URL:https://monts-actus.fr
X-WR-CALDESC:Events for Monts Actus
REFRESH-INTERVAL;VALUE=DURATION:PT1H
X-Robots-Tag:noindex
X-PUBLISHED-TTL:PT1H
BEGIN:VTIMEZONE
TZID:Europe/Paris
BEGIN:DAYLIGHT
TZOFFSETFROM:+0100
TZOFFSETTO:+0200
TZNAME:CEST
DTSTART:20240331T010000
END:DAYLIGHT
BEGIN:STANDARD
TZOFFSETFROM:+0200
TZOFFSETTO:+0100
TZNAME:CET
DTSTART:20241027T010000
END:STANDARD
END:VTIMEZONE
BEGIN:VEVENT
DTSTART;VALUE=DATE:20240901
DTEND;VALUE=DATE:20240902
DTSTAMP:20260421T143345
CREATED:20240729T124648Z
LAST-MODIFIED:20240729T124740Z
UID:8645-1725148800-1725235199@monts-actus.fr
SUMMARY:Une journée comme autrefois
DESCRIPTION:Une journée comme autrefois à Beauvallon – Dimanche 1er septembre 2024 \nL’association A.E.P. organise la 40ème édition au centre du village de Saint-Jean-de-Toulas. \nAnimations toute la journée pour toute la famille : concerts\, défilé\, voitures anciennes\, etc. \nRepas campagnard à midi ! \nEntrée : 3 €
URL:https://monts-actus.fr/agenda/une-journee-comme-autrefois/
LOCATION:Beauvallon
CATEGORIES:Beauvallon
ATTACH;FMTTYPE=image/jpeg:https://monts-actus.fr/wp-content/uploads/2024/07/Une-journee-comme-autrefois-Beauvallon-1er-sept-2024-Monts-Actus.jpg
END:VEVENT
END:VCALENDAR