BEGIN:VCALENDAR
VERSION:2.0
PRODID:-//Monts Actus - ECPv5.16.1//NONSGML v1.0//EN
CALSCALE:GREGORIAN
METHOD:PUBLISH
X-ORIGINAL-URL:https://monts-actus.fr
X-WR-CALDESC:Events for Monts Actus
REFRESH-INTERVAL;VALUE=DURATION:PT1H
X-Robots-Tag:noindex
X-PUBLISHED-TTL:PT1H
BEGIN:VTIMEZONE
TZID:Europe/Paris
BEGIN:DAYLIGHT
TZOFFSETFROM:+0100
TZOFFSETTO:+0200
TZNAME:CEST
DTSTART:20230326T010000
END:DAYLIGHT
BEGIN:STANDARD
TZOFFSETFROM:+0200
TZOFFSETTO:+0100
TZNAME:CET
DTSTART:20231029T010000
END:STANDARD
END:VTIMEZONE
BEGIN:VEVENT
DTSTART;VALUE=DATE:20230916
DTEND;VALUE=DATE:20230917
DTSTAMP:20260422T110308
CREATED:20230619T134716Z
LAST-MODIFIED:20230719T135929Z
UID:5644-1694822400-1694908799@monts-actus.fr
SUMMARY:Soirée Grenouilles - Brullioles
DESCRIPTION:Retrouvez la Soirée Grenouilles sur la Place de l’église de Brullioles\, samedi 16 septembre 2023 à 20h ! \nMenu à 27€ : salade lyonnaise\, Grenouilles à volonté (ou suprême de volaille à la crème avec gratin dauphinois) fromage blanc ou sec\, vacherin glacé\, café offert \nTraiteur : Sylvain Chirat le Beauséjour Villechenève \nMenu enfants -12 ans: 6€ hot dog\, chips\, dessert \nUniquement sur réservation :\n– Boutique Urban – 34 rue Charles de Gaulle – L’Arbresle\n– Vival Brullioles\n– Boulangerie Brullioles\n– par téléphone : 06 86 76 67 74 / 06 13 35 09 88 (le soir)
URL:https://monts-actus.fr/agenda/soiree-grenouilles-brullioles/
LOCATION:Brullioles
CATEGORIES:Brullioles
ATTACH;FMTTYPE=image/jpeg:https://monts-actus.fr/wp-content/uploads/2023/07/soiree-grenouilles-brullioles-monts-actus.jpeg
END:VEVENT
END:VCALENDAR