BEGIN:VCALENDAR
VERSION:2.0
PRODID:-//Monts Actus - ECPv5.16.1//NONSGML v1.0//EN
CALSCALE:GREGORIAN
METHOD:PUBLISH
X-WR-CALNAME:Monts Actus
X-ORIGINAL-URL:https://monts-actus.fr
X-WR-CALDESC:Events for Monts Actus
REFRESH-INTERVAL;VALUE=DURATION:PT1H
X-Robots-Tag:noindex
X-PUBLISHED-TTL:PT1H
BEGIN:VTIMEZONE
TZID:Europe/Paris
BEGIN:DAYLIGHT
TZOFFSETFROM:+0100
TZOFFSETTO:+0200
TZNAME:CEST
DTSTART:20240331T010000
END:DAYLIGHT
BEGIN:STANDARD
TZOFFSETFROM:+0200
TZOFFSETTO:+0100
TZNAME:CET
DTSTART:20241027T010000
END:STANDARD
END:VTIMEZONE
BEGIN:VEVENT
DTSTART;VALUE=DATE:20240517
DTEND;VALUE=DATE:20240520
DTSTAMP:20260421T230919
CREATED:20240506T082632Z
LAST-MODIFIED:20240506T082735Z
UID:7765-1715904000-1716163199@monts-actus.fr
SUMMARY:Vogue de Pentecôte
DESCRIPTION:Vogue de Pentecôte à Brullioles – Du vendredi 17 au dimanche 19 mai 2024 \nL’Association des jeunes vous donne rendez-vous à partir du vendredi 17 mai pour la vogue annuelle ! \nLa sono sera animée par Rythmic Concept pour les bals du samedi soir et du dimanche soir. \nUn repas est prévu le dimanche soir à 20 h : jambon madère et gratin\, fromage\, dessert.\nUniquement sur réservation (Vival et la boulangerie). \nTarifs :\nAdulte : 16 € – Enfant : 8 € \nLa buvette des jeunes sera présente du vendredi au dimanche soir.
URL:https://monts-actus.fr/agenda/vogue-de-pentecote/
LOCATION:Brullioles
CATEGORIES:Brullioles
ATTACH;FMTTYPE=image/jpeg:https://monts-actus.fr/wp-content/uploads/2024/05/Vogue-Brullioles-17-au-20-mai-2024-Monts-Actus.jpg
END:VEVENT
END:VCALENDAR