BEGIN:VCALENDAR
VERSION:2.0
PRODID:-//Monts Actus - ECPv5.16.1//NONSGML v1.0//EN
CALSCALE:GREGORIAN
METHOD:PUBLISH
X-WR-CALNAME:Monts Actus
X-ORIGINAL-URL:https://monts-actus.fr
X-WR-CALDESC:Events for Monts Actus
REFRESH-INTERVAL;VALUE=DURATION:PT1H
X-Robots-Tag:noindex
X-PUBLISHED-TTL:PT1H
BEGIN:VTIMEZONE
TZID:Europe/Paris
BEGIN:DAYLIGHT
TZOFFSETFROM:+0100
TZOFFSETTO:+0200
TZNAME:CEST
DTSTART:20240331T010000
END:DAYLIGHT
BEGIN:STANDARD
TZOFFSETFROM:+0200
TZOFFSETTO:+0100
TZNAME:CET
DTSTART:20241027T010000
END:STANDARD
END:VTIMEZONE
BEGIN:VEVENT
DTSTART;VALUE=DATE:20240907
DTEND;VALUE=DATE:20240909
DTSTAMP:20260422T173302
CREATED:20240416T142109Z
LAST-MODIFIED:20240906T122910Z
UID:7578-1725667200-1725839999@monts-actus.fr
SUMMARY:La Motor's - 10ème édition
DESCRIPTION:La Motor’s – 10ème édition à Chabanière – Samedi 7 et dimanche 8 septembre 2024 \nCompétition Endurance TT Quads & Motos. \n Une 10ème édition pleine de nouveautés : \n– Retour sur le site de 2019 qui sera plus grand\,\n– Nouvelles pistes plus grandes\,\n– Grande nouveauté 2024 : Championnat ligue AURA Endurance TT MOTOS. \nOUVERT à tous\, débutants\, amateurs\, experts  \nLieu : Lieu dit « La Fillionnière »\, route de la Grange – 69440 CHABANIERE \n\nSamedi 7 septembre \n– Championnat Endurance Tout-Terrain QUAD\n\n\n– Parcs exposants et animations\n– Entrée et parking gratuit\n– Buvette et restauration \n– Circuit gonflable motos et quads pour les petits \n– Démonstration motos électriques\n\n\n– Présence de RAS 38 sur le parc expo avec ses voitures du #tropheeandros équipées « terre »\n– Stand « DAKAR » avec le quad de Alexandre Giroud – Quad – Rallye Raid vainqueur du Dakar 2024 ainsi que la moto du Team RAF : objectif DAKAR\n– Sanitaires sur place  \n– Motor’s party jusqu’à 00 h  \n  \nDimanche 8 septembre\n\n– Championnat Endurance Tout-Terrain MOTO\n  \nPROGRAMME COMPLET CHAMPIONNATS QUAD & MOTO\n 
URL:https://monts-actus.fr/agenda/la-motors-10eme-edition/
LOCATION:Chabanière
CATEGORIES:Chabanière
ATTACH;FMTTYPE=image/jpeg:https://monts-actus.fr/wp-content/uploads/2024/04/motors-2024-competition-moto-quad-chabaniere-entree-gratuite-monts-actus.jpg
END:VEVENT
BEGIN:VEVENT
DTSTART;TZID=Europe/Paris:20240913T180000
DTEND;TZID=Europe/Paris:20240914T233000
DTSTAMP:20260422T173302
CREATED:20240710T080209Z
LAST-MODIFIED:20240904T131935Z
UID:8470-1726250400-1726356600@monts-actus.fr
SUMMARY:Festival "Qui Sème Danse" #3
DESCRIPTION:Festival « Qui Sème Danse » à Chabanière – Vendredi 13 et samedi 14 septembre 2024 \n🌻 Edition « Mue-temps » : nous souhaitons faire réfléchir sur les mutations de nos sociétés. \nThurigneux\, Chabanière dans le 69 (à mi chemin entre Lyon et Saint-Étienne) Parking gratuit Camping réservé aux festivaliers (2€) Bars et restauration en circuits courts avec des produits biologiques Entrée gratuite pour les moins de 16 ans \nProgrammation éclectique\, familiale et débordante d’énergie : concerts\, spectacles\, ateliers\, conférences\, village militant\, espaces bien-être et ludique et pleins d’autres surprises…  \nPrix : 10 à 27 € l’entrée\nBilletterie en ligne
URL:https://monts-actus.fr/agenda/festival-qui-seme-danse-3/
LOCATION:Chabanière
CATEGORIES:Chabanière
ATTACH;FMTTYPE=image/jpeg:https://monts-actus.fr/wp-content/uploads/2024/07/Qui-seme-danse-Chabaniere-13-et-14-septembre-2024-Monts-Actus.jpg
END:VEVENT
END:VCALENDAR