BEGIN:VCALENDAR
VERSION:2.0
PRODID:-//Monts Actus - ECPv5.16.1//NONSGML v1.0//EN
CALSCALE:GREGORIAN
METHOD:PUBLISH
X-WR-CALNAME:Monts Actus
X-ORIGINAL-URL:https://monts-actus.fr
X-WR-CALDESC:Events for Monts Actus
REFRESH-INTERVAL;VALUE=DURATION:PT1H
X-Robots-Tag:noindex
X-PUBLISHED-TTL:PT1H
BEGIN:VTIMEZONE
TZID:Europe/Paris
BEGIN:DAYLIGHT
TZOFFSETFROM:+0100
TZOFFSETTO:+0200
TZNAME:CEST
DTSTART:20240331T010000
END:DAYLIGHT
BEGIN:STANDARD
TZOFFSETFROM:+0200
TZOFFSETTO:+0100
TZNAME:CET
DTSTART:20241027T010000
END:STANDARD
END:VTIMEZONE
BEGIN:VEVENT
DTSTART;TZID=Europe/Paris:20241117T080000
DTEND;TZID=Europe/Paris:20241117T160000
DTSTAMP:20260422T141636
CREATED:20241008T080316Z
LAST-MODIFIED:20241008T080316Z
UID:9135-1731830400-1731859200@monts-actus.fr
SUMMARY:Vide grenier à Saint-Maurice-sur-Dargoire
DESCRIPTION:Vide grenier à Saint-Maurice-sur-Dargoire / Dimanche 17 novembre 2024 \nL’association de Pomm’récré organise son vide grenier le 17 novembre ! \nLe rendez-vous est donné à la salle Villette (Boulodrome) de Saint-Maurice-sur-Dargoire de 8 h à 16 h. \nL’entrée est gratuite pour les visiteurs. \nRestauration\, buvette sur place. \n 
URL:https://monts-actus.fr/agenda/vide-grenier-a-saint-maurice-sur-dargoire/
LOCATION:Chabanière
CATEGORIES:Chabanière
ATTACH;FMTTYPE=image/jpeg:https://monts-actus.fr/wp-content/uploads/2024/10/Vide-grenier-saint-maurice-sur-dargoire-17-novembre-2024-Monts-Actus.jpg
END:VEVENT
END:VCALENDAR