BEGIN:VCALENDAR
VERSION:2.0
PRODID:-//Monts Actus - ECPv5.16.1//NONSGML v1.0//EN
CALSCALE:GREGORIAN
METHOD:PUBLISH
X-ORIGINAL-URL:https://monts-actus.fr
X-WR-CALDESC:Events for Monts Actus
REFRESH-INTERVAL;VALUE=DURATION:PT1H
X-Robots-Tag:noindex
X-PUBLISHED-TTL:PT1H
BEGIN:VTIMEZONE
TZID:Europe/Paris
BEGIN:DAYLIGHT
TZOFFSETFROM:+0100
TZOFFSETTO:+0200
TZNAME:CEST
DTSTART:20240331T010000
END:DAYLIGHT
BEGIN:STANDARD
TZOFFSETFROM:+0200
TZOFFSETTO:+0100
TZNAME:CET
DTSTART:20241027T010000
END:STANDARD
END:VTIMEZONE
BEGIN:VEVENT
DTSTART;TZID=Europe/Paris:20240706T170000
DTEND;TZID=Europe/Paris:20240706T170000
DTSTAMP:20260422T141750
CREATED:20240604T075712Z
LAST-MODIFIED:20240614T091700Z
UID:8079-1720285200-1720285200@monts-actus.fr
SUMMARY:Chevri' Color 2024
DESCRIPTION:Chevri’ Color de Chevrières – Samedi 6 juillet 2024  \nLe Comité Culture et Loisirs et le Club des Jeunes Chevrotins organisent la seconde édition de la Chevri’ Color. \nRendez-vous sur le Stade des Noyers\, Route de Fontanès\, à partir de 17 h. \nAu programme :\nColor run : 5 km de couleur (de 8 à 17 €)\nA 21 h\, bal avec Sono Dynamite (gratuit) \nBuvette et restauration sur place. \nInfos et réservations sur color run Chevrières
URL:https://monts-actus.fr/agenda/chevri-color-2024/
LOCATION:Chevrières
CATEGORIES:Chevrières
ATTACH;FMTTYPE=image/jpeg:https://monts-actus.fr/wp-content/uploads/2024/06/Chevri-Color-Chevrieres-6-juillet-2024-Monts-Actus.jpg
END:VEVENT
END:VCALENDAR