BEGIN:VCALENDAR
VERSION:2.0
PRODID:-//Monts Actus - ECPv5.16.1//NONSGML v1.0//EN
CALSCALE:GREGORIAN
METHOD:PUBLISH
X-WR-CALNAME:Monts Actus
X-ORIGINAL-URL:https://monts-actus.fr
X-WR-CALDESC:Events for Monts Actus
REFRESH-INTERVAL;VALUE=DURATION:PT1H
X-Robots-Tag:noindex
X-PUBLISHED-TTL:PT1H
BEGIN:VTIMEZONE
TZID:Europe/Paris
BEGIN:DAYLIGHT
TZOFFSETFROM:+0100
TZOFFSETTO:+0200
TZNAME:CEST
DTSTART:20230326T010000
END:DAYLIGHT
BEGIN:STANDARD
TZOFFSETFROM:+0200
TZOFFSETTO:+0100
TZNAME:CET
DTSTART:20231029T010000
END:STANDARD
END:VTIMEZONE
BEGIN:VEVENT
DTSTART;VALUE=DATE:20230624
DTEND;VALUE=DATE:20230625
DTSTAMP:20260423T090513
CREATED:20230603T152019Z
LAST-MODIFIED:20230623T152406Z
UID:5509-1687564800-1687651199@monts-actus.fr
SUMMARY:Fête de la Musique - Coise
DESCRIPTION:FÊTE DE LA MUSIQUE – COISE – SAMEDI 24 JUIN 2023 \n20h – Parking de la Salle des Fêtes de Coise \nLa MJC de Coise est heureuse de vous annoncer le retour de sa fameuse fête de la musique ! \nAu programme : \n\nConcert de près de 3h avec : Older Lint et ZooFolie.\nMusique\, convivialité\, bonne humeur\, buvette sur place\n\nLa nuit ne vous fait pas peur…pas de soucis ! Sono Atomix est là pour animer votre soirée jusqu’à 2h du matin !
URL:https://monts-actus.fr/agenda/fete-de-la-musique-coise-2023/
LOCATION:Coise
CATEGORIES:Coise
ATTACH;FMTTYPE=image/jpeg:https://monts-actus.fr/wp-content/uploads/2023/06/fete-de-la-musique-de-coise-24-juin-2023-coise-monts-actus.jpeg
END:VEVENT
END:VCALENDAR