BEGIN:VCALENDAR
VERSION:2.0
PRODID:-//Monts Actus - ECPv5.16.1//NONSGML v1.0//EN
CALSCALE:GREGORIAN
METHOD:PUBLISH
X-ORIGINAL-URL:https://monts-actus.fr
X-WR-CALDESC:Events for Monts Actus
REFRESH-INTERVAL;VALUE=DURATION:PT1H
X-Robots-Tag:noindex
X-PUBLISHED-TTL:PT1H
BEGIN:VTIMEZONE
TZID:Europe/Paris
BEGIN:DAYLIGHT
TZOFFSETFROM:+0100
TZOFFSETTO:+0200
TZNAME:CEST
DTSTART:20230326T010000
END:DAYLIGHT
BEGIN:STANDARD
TZOFFSETFROM:+0200
TZOFFSETTO:+0100
TZNAME:CET
DTSTART:20231029T010000
END:STANDARD
END:VTIMEZONE
BEGIN:VEVENT
DTSTART;VALUE=DATE:20230709
DTEND;VALUE=DATE:20230710
DTSTAMP:20260423T072947
CREATED:20230604T102140Z
LAST-MODIFIED:20230621T102427Z
UID:5437-1688860800-1688947199@monts-actus.fr
SUMMARY:71ème Fête du Pays de Coise
DESCRIPTION:71ème FÊTE DU PAYS DE COISE – Dimanche 9 juillet 2023 – Coise  \nCette année le thème de la magie\, des mystères et de la féerie est à l’honneur! ✨🎩🪄 \nOn débute la matinée à 8h avec la traditionnelle Soupe aux choux ! \nPuis les festivités commencent dès 10h30 avec une balade contée\, pour petits et grands\, au cœur du village. \nÀ 12h possibilité de vous restaurer sur place en réservant au restaurant « La Petite Maison » de Coise\, (formule à 14€/personne\, réservations avant le 2 Juillet au: 04.78.44.49.90) \nÀ 14h30 la journée se poursuit par le défilé des différents quartiers! 🥳 À vous de reconnaître les personnages emblématiques sur leurs magnifiques chars décorés 😉 \nPuis animations en continu toute l’après-midi: maquillage\, concours de déguisement\, spectacles de magie et initiation… 🪄🎩 \nÀ 19h: grillades au feu de bois🥩🍻 (12€/personne) et tirage de la tombola où de nombreux lots vous attendent (spectacles de magie\, repas au Château Blanchard\, trotinette électrique\,…) \nPour terminer cette journée\, tout le monde sur la piste de danse sur le parking de la salle des fêtes !!! 🎶 Animation par ATOMIX 🎧 \nComme chaque année\, le soleil sera parmi nous ☀️
URL:https://monts-actus.fr/agenda/71eme-fete-du-pays-de-coise/
LOCATION:Coise
CATEGORIES:Coise
ATTACH;FMTTYPE=image/jpeg:https://monts-actus.fr/wp-content/uploads/2023/06/71eme-Fete-du-Pays-de-Coise-dimanche-9-juillet-2023-monts-actus.jpeg
END:VEVENT
END:VCALENDAR