BEGIN:VCALENDAR
VERSION:2.0
PRODID:-//Monts Actus - ECPv5.16.1//NONSGML v1.0//EN
CALSCALE:GREGORIAN
METHOD:PUBLISH
X-WR-CALNAME:Monts Actus
X-ORIGINAL-URL:https://monts-actus.fr
X-WR-CALDESC:Events for Monts Actus
REFRESH-INTERVAL;VALUE=DURATION:PT1H
X-Robots-Tag:noindex
X-PUBLISHED-TTL:PT1H
BEGIN:VTIMEZONE
TZID:Europe/Paris
BEGIN:DAYLIGHT
TZOFFSETFROM:+0100
TZOFFSETTO:+0200
TZNAME:CEST
DTSTART:20240331T010000
END:DAYLIGHT
BEGIN:STANDARD
TZOFFSETFROM:+0200
TZOFFSETTO:+0100
TZNAME:CET
DTSTART:20241027T010000
END:STANDARD
END:VTIMEZONE
BEGIN:VEVENT
DTSTART;TZID=Europe/Paris:20240602T170000
DTEND;TZID=Europe/Paris:20240602T170000
DTSTAMP:20260422T125615
CREATED:20240529T092046Z
LAST-MODIFIED:20240529T092140Z
UID:8018-1717347600-1717347600@monts-actus.fr
SUMMARY:Balade musicale "Jean Giono"
DESCRIPTION:Balade musicale « Jean Giono » – Dimanche 2 juin 2024 \nLa bibliothèque de Coise\, 10\, Rue des Pierres Roses\, vous donne rendez-vous à partir de 17 h pour découvrir des costumes provençaux. \nA 18 h\, balade musicale jusqu’à la Chapelle de la Peur avec la lecture des 20 premières pages de « Le Hussard sur le toit » de Jean Giono par Laurent Dhume. \nGratuit\, sans inscription. \nContact : 04 78 07 90 53
URL:https://monts-actus.fr/agenda/balade_musicale/
LOCATION:Coise
CATEGORIES:Coise
ATTACH;FMTTYPE=image/jpeg:https://monts-actus.fr/wp-content/uploads/2024/05/Les-solos-au-long-cours-Coise-2-juin-2024-Monts-Actus.jpg
END:VEVENT
END:VCALENDAR