BEGIN:VCALENDAR
VERSION:2.0
PRODID:-//Monts Actus - ECPv5.16.1//NONSGML v1.0//EN
CALSCALE:GREGORIAN
METHOD:PUBLISH
X-ORIGINAL-URL:https://monts-actus.fr
X-WR-CALDESC:Events for Monts Actus
REFRESH-INTERVAL;VALUE=DURATION:PT1H
X-Robots-Tag:noindex
X-PUBLISHED-TTL:PT1H
BEGIN:VTIMEZONE
TZID:Europe/Paris
BEGIN:DAYLIGHT
TZOFFSETFROM:+0100
TZOFFSETTO:+0200
TZNAME:CEST
DTSTART:20240331T010000
END:DAYLIGHT
BEGIN:STANDARD
TZOFFSETFROM:+0200
TZOFFSETTO:+0100
TZNAME:CET
DTSTART:20241027T010000
END:STANDARD
END:VTIMEZONE
BEGIN:VEVENT
DTSTART;VALUE=DATE:20240707
DTEND;VALUE=DATE:20240708
DTSTAMP:20260422T112327
CREATED:20240604T091207Z
LAST-MODIFIED:20240604T091655Z
UID:8090-1720310400-1720396799@monts-actus.fr
SUMMARY:Fête du Pays de Coise 2024
DESCRIPTION:Fête du Pays à Coise – Dimanche 7 juillet 2024 \nLes Tréteaux du Grand Val vous donne rendez-vous au village de Coise pour sa 72ème édition placée sous le thème :  « Le Sport en Fête ! » \nVendredi 5 juillet : Concours de pétanque (inscriptions à 19 h) \nAu programme du 7 juillet :\n– A partir de 8 h : soupe aux choux\n– 10 h 30 : balade en joëlettes\n– 12 h : apéritif et repas\n– A partir de 14 h 30 : animations en continu\, spectacle de BMX et acrobaties sur fil.\n– A 19 h : grillades et tirage de la tombola\n– 21 h : soirée dansante \nRestauration midi :  réservation et paiement avant le 30 juin auprès du restaurant « La Petite Maison » au 04 78 44 49 90 (15 €).\nGrillades au feu de bois le soir (12 €) \n 
URL:https://monts-actus.fr/agenda/fete-du-pays-de-coise-2024/
LOCATION:Coise
CATEGORIES:Coise
ATTACH;FMTTYPE=image/jpeg:https://monts-actus.fr/wp-content/uploads/2024/06/Fete-du-pays-Coise-7-juillet-2024-Monts-Actus.jpg
END:VEVENT
END:VCALENDAR