BEGIN:VCALENDAR
VERSION:2.0
PRODID:-//Monts Actus - ECPv5.16.1//NONSGML v1.0//EN
CALSCALE:GREGORIAN
METHOD:PUBLISH
X-WR-CALNAME:Monts Actus
X-ORIGINAL-URL:https://monts-actus.fr
X-WR-CALDESC:Events for Monts Actus
REFRESH-INTERVAL;VALUE=DURATION:PT1H
X-Robots-Tag:noindex
X-PUBLISHED-TTL:PT1H
BEGIN:VTIMEZONE
TZID:Europe/Paris
BEGIN:DAYLIGHT
TZOFFSETFROM:+0100
TZOFFSETTO:+0200
TZNAME:CEST
DTSTART:20240331T010000
END:DAYLIGHT
BEGIN:STANDARD
TZOFFSETFROM:+0200
TZOFFSETTO:+0100
TZNAME:CET
DTSTART:20241027T010000
END:STANDARD
END:VTIMEZONE
BEGIN:VEVENT
DTSTART;TZID=Europe/Paris:20241109T193000
DTEND;TZID=Europe/Paris:20241109T193000
DTSTAMP:20260422T040953
CREATED:20241003T094454Z
LAST-MODIFIED:20241003T094941Z
UID:9130-1731180600-1731180600@monts-actus.fr
SUMMARY:Concert à Coise
DESCRIPTION:Concert à Coise – Samedi 9 novembre 2024 \nLes Tréteaux du Grand Val organisent un Concert à la salle des fêtes de Coise (Le Bourg). \nAnimation par Chamade et Nabiss. Créations et variétés françaises. \nA  partir de 18 h 30. Concert à 19 h 30. \nEntrée : 12 €\nEntrée + planche : 20 € \nBuvette et restauration sur place. \nRenseignements\, réservation : 07 68 43 82 82 \n  \n 
URL:https://monts-actus.fr/agenda/concert-a-coise/
LOCATION:Coise
CATEGORIES:Coise
ATTACH;FMTTYPE=image/jpeg:https://monts-actus.fr/wp-content/uploads/2024/10/Concert-coise-9-novembre-2024-Monts-Actus.jpg
END:VEVENT
BEGIN:VEVENT
DTSTART;VALUE=DATE:20241129
DTEND;VALUE=DATE:20241130
DTSTAMP:20260422T040953
CREATED:20241121T125844Z
LAST-MODIFIED:20241121T125945Z
UID:9154-1732838400-1732924799@monts-actus.fr
SUMMARY:Spectacle narratif par la Compagnie GAF'ALU - Coise
DESCRIPTION:Vendredi 29 Novembre – 20h30 – COISE \nSpectacle narratif par la Compagnie GAF’ALU – Lionel JAMON : comédien\nD’après l’oeuvre d’Honoré de Balzac \nLucien Chardon\, attiré par la gloire\, le pouvoir et l’argent\, décide de quitter sa province natale pour la capitale. Il était poète\, il deviendra journaliste. Admirant l’atroce pouvoir de l’argent\, il se vautrera dans le vice\, corrompra ses pensées et mettra sa plume au service du plus offrant. Ce spectacle est en forme de one-man-show. Une sorte de polar descriptif servi par un show physique. \nÀ partir de 15 ans.
URL:https://monts-actus.fr/agenda/spectacle-narratif-par-la-compagnie-gafalu-coise/
LOCATION:Coise
CATEGORIES:Coise
ATTACH;FMTTYPE=image/jpeg:https://monts-actus.fr/wp-content/uploads/2024/11/ILLUSIONS-PERDUES_Coise_29-11-2024_Monts-Actus.jpg
END:VEVENT
END:VCALENDAR