BEGIN:VCALENDAR
VERSION:2.0
PRODID:-//Monts Actus - ECPv5.16.1//NONSGML v1.0//EN
CALSCALE:GREGORIAN
METHOD:PUBLISH
X-ORIGINAL-URL:https://monts-actus.fr
X-WR-CALDESC:Events for Monts Actus
REFRESH-INTERVAL;VALUE=DURATION:PT1H
X-Robots-Tag:noindex
X-PUBLISHED-TTL:PT1H
BEGIN:VTIMEZONE
TZID:Europe/Paris
BEGIN:DAYLIGHT
TZOFFSETFROM:+0100
TZOFFSETTO:+0200
TZNAME:CEST
DTSTART:20240331T010000
END:DAYLIGHT
BEGIN:STANDARD
TZOFFSETFROM:+0200
TZOFFSETTO:+0100
TZNAME:CET
DTSTART:20241027T010000
END:STANDARD
END:VTIMEZONE
BEGIN:VEVENT
DTSTART;TZID=Europe/Paris:20240505T060000
DTEND;TZID=Europe/Paris:20240505T170000
DTSTAMP:20260426T050900
CREATED:20240409T092308Z
LAST-MODIFIED:20240409T092904Z
UID:7492-1714888800-1714928400@monts-actus.fr
SUMMARY:Vide grenier
DESCRIPTION:Vide grenier à Grammond – Dimanche 5 mai 2024 \nGrand vide-grenier organisé au profit de l’association française du syndrome Phélan-McDermid\, syndrome dont est atteint Maéva. \nAnimations :\nBalade en mobylette à 9 h 30.\nBalade en moto à 8 h.\nExpo side-cars avec baptême de balade en side.\nStructure gonflable. \nEntrée gratuite. \nPossibilité de prendre un repas sur place à 10 €\, à partir de 12 h. \nBuvette et snack toute la journée.
URL:https://monts-actus.fr/agenda/vide-grenier-3/
LOCATION:Grammond
CATEGORIES:Grammond
ATTACH;FMTTYPE=image/jpeg:https://monts-actus.fr/wp-content/uploads/2024/04/Vide-grenier-Grammond-5-mai-2024-Monts-Actus.jpg
END:VEVENT
END:VCALENDAR