BEGIN:VCALENDAR
VERSION:2.0
PRODID:-//Monts Actus - ECPv5.16.1//NONSGML v1.0//EN
CALSCALE:GREGORIAN
METHOD:PUBLISH
X-WR-CALNAME:Monts Actus
X-ORIGINAL-URL:https://monts-actus.fr
X-WR-CALDESC:Events for Monts Actus
REFRESH-INTERVAL;VALUE=DURATION:PT1H
X-Robots-Tag:noindex
X-PUBLISHED-TTL:PT1H
BEGIN:VTIMEZONE
TZID:Europe/Paris
BEGIN:DAYLIGHT
TZOFFSETFROM:+0100
TZOFFSETTO:+0200
TZNAME:CEST
DTSTART:20240331T010000
END:DAYLIGHT
BEGIN:STANDARD
TZOFFSETFROM:+0200
TZOFFSETTO:+0100
TZNAME:CET
DTSTART:20241027T010000
END:STANDARD
END:VTIMEZONE
BEGIN:VEVENT
DTSTART;TZID=Europe/Paris:20240621T190000
DTEND;TZID=Europe/Paris:20240621T190000
DTSTAMP:20260426T031752
CREATED:20240618T114325Z
LAST-MODIFIED:20240618T114520Z
UID:8215-1718996400-1718996400@monts-actus.fr
SUMMARY:Fête de la musique à Grammond
DESCRIPTION:Fête de la musique à Grammond – Vendredi 21 juin 2024 \nL’Epi de Grammond et le Baraban Café vous donnent rendez-vous sur la place de l’Eglise à partir de 19 h. \nAu programme musical : \nL’Ecole de musique et Batterie Fanfare de l’Epi\npuis\nThe Big Charly pour des reprises Root’s Rock’n Reggae \nRestauration sur place (saucisses\, frites) \nGratuit\, ouvert à tous !
URL:https://monts-actus.fr/agenda/fete-de-la-musique-a-grammond/
LOCATION:Grammond
CATEGORIES:Grammond
ATTACH;FMTTYPE=image/jpeg:https://monts-actus.fr/wp-content/uploads/2024/06/Fete-de-la-musique-Grammond-21-juin-2024-Monts-Actus.jpg
END:VEVENT
END:VCALENDAR