BEGIN:VCALENDAR
VERSION:2.0
PRODID:-//Monts Actus - ECPv5.16.1//NONSGML v1.0//EN
CALSCALE:GREGORIAN
METHOD:PUBLISH
X-WR-CALNAME:Monts Actus
X-ORIGINAL-URL:https://monts-actus.fr
X-WR-CALDESC:Events for Monts Actus
REFRESH-INTERVAL;VALUE=DURATION:PT1H
X-Robots-Tag:noindex
X-PUBLISHED-TTL:PT1H
BEGIN:VTIMEZONE
TZID:Europe/Paris
BEGIN:DAYLIGHT
TZOFFSETFROM:+0100
TZOFFSETTO:+0200
TZNAME:CEST
DTSTART:20240331T010000
END:DAYLIGHT
BEGIN:STANDARD
TZOFFSETFROM:+0200
TZOFFSETTO:+0100
TZNAME:CET
DTSTART:20241027T010000
END:STANDARD
END:VTIMEZONE
BEGIN:VEVENT
DTSTART;TZID=Europe/Paris:20240414T080000
DTEND;TZID=Europe/Paris:20240414T150000
DTSTAMP:20260421T121340
CREATED:20240408T082724Z
LAST-MODIFIED:20240408T084406Z
UID:7449-1713081600-1713106800@monts-actus.fr
SUMMARY:Randonnée des violettes
DESCRIPTION:Randonnée des violettes – Les Halles – Dimanche 14 avril 2024 \n« Les Halles en fête » propose 4 parcours de 7\, 13\, 20 et 27km au départ de la salle Polyvalente. \nDéparts et inscriptions de 8 h à 15 h \nRavitaillements sur les circuits. \nPrix : Entre 5 et 8€ selon le circuit. \nAssiette halloise à l’arrivée.
URL:https://monts-actus.fr/agenda/randonnee-des-violettes/
LOCATION:Les Halles
CATEGORIES:Les Halles
ATTACH;FMTTYPE=image/jpeg:https://monts-actus.fr/wp-content/uploads/2024/04/Randonnee-des-violettes-Les-Halles-14-avril-2024-Monts-Actus.jpg
END:VEVENT
END:VCALENDAR