BEGIN:VCALENDAR
VERSION:2.0
PRODID:-//Monts Actus - ECPv5.16.1//NONSGML v1.0//EN
CALSCALE:GREGORIAN
METHOD:PUBLISH
X-WR-CALNAME:Monts Actus
X-ORIGINAL-URL:https://monts-actus.fr
X-WR-CALDESC:Events for Monts Actus
REFRESH-INTERVAL;VALUE=DURATION:PT1H
X-Robots-Tag:noindex
X-PUBLISHED-TTL:PT1H
BEGIN:VTIMEZONE
TZID:Europe/Paris
BEGIN:DAYLIGHT
TZOFFSETFROM:+0100
TZOFFSETTO:+0200
TZNAME:CEST
DTSTART:20240331T010000
END:DAYLIGHT
BEGIN:STANDARD
TZOFFSETFROM:+0200
TZOFFSETTO:+0100
TZNAME:CET
DTSTART:20241027T010000
END:STANDARD
END:VTIMEZONE
BEGIN:VEVENT
DTSTART;TZID=Europe/Paris:20240705T150000
DTEND;TZID=Europe/Paris:20240706T220000
DTSTAMP:20260422T112032
CREATED:20240624T114946Z
LAST-MODIFIED:20240624T115110Z
UID:8285-1720191600-1720303200@monts-actus.fr
SUMMARY:Festival Lez'arts des Champs
DESCRIPTION:Festival Lez’arts des Champs à Maringes – Vendredi 5 et samedi 6 juillet 2024 \nUn festival familial alliant concerts\, cirque\, théâtre\, jeux en bois\, murder party qui aura lieu au stade du pin des sœurs à Maringes. \nProgramme des 2 jours :\nVendredi 5 juillet\n– 15 h 00 : Spectacle de Magie – Roland Petiot– 19 h 30 : Concert de Greboo (Pop\, Rock\, Rap)– 20 h 30 : Concert de Polokus & Mugen (Rap-accordéon) \nSamedi 6 juillet\n– 15 h – 17 h : Murder Party avec Nomad Escape (jeu d’enquête par équipe de 2 à 6 joueur.euses)– 17 h 30 : Représentation de théâtre par Les Zèbres Joyeux– 19 h 30 : Concert de Honey Pie (Reprises)– 20 h 30 : Concert de Amazigh (Musiques du monde d’inspiration kabyle – jazz\, reggae\, funk…) \nProduits locaux \nBuvette et snacks \nPrix libre
URL:https://monts-actus.fr/agenda/festival-lezarts-des-champs/
LOCATION:Maringes
CATEGORIES:Maringes
ATTACH;FMTTYPE=image/jpeg:https://monts-actus.fr/wp-content/uploads/2024/06/Festival-Lezarts-des-champs-Maringes-5-et-6-juillet-2024-Monts-actus.jpg
END:VEVENT
BEGIN:VEVENT
DTSTART;VALUE=DATE:20240728
DTEND;VALUE=DATE:20240729
DTSTAMP:20260422T112032
CREATED:20240716T102756Z
LAST-MODIFIED:20240716T103058Z
UID:8513-1722124800-1722211199@monts-actus.fr
SUMMARY:Fête artisanale et agricole
DESCRIPTION:Fête artisanale et agricole de Maringes – Dimanche 28 juillet 2024 \nL’Association Maringes Patrimoine Artisanal et agricole vous invite sur le Stade du Pin des Soeurs pour profiter d’animations toute la journée. \nBuvette sur place. Repas de midi. \nEntrée gratuite. \nContact\, réservation repas : maringespatrimoine@laposte.net
URL:https://monts-actus.fr/agenda/fete-artisanale-et-agricole/
LOCATION:Maringes
CATEGORIES:Maringes
ATTACH;FMTTYPE=image/jpeg:https://monts-actus.fr/wp-content/uploads/2024/07/Fete-artisanale-et-agricole-Maringes-28-juillet-2024-Monts-Actus.jpg
END:VEVENT
END:VCALENDAR