BEGIN:VCALENDAR
VERSION:2.0
PRODID:-//Monts Actus - ECPv5.16.1//NONSGML v1.0//EN
CALSCALE:GREGORIAN
METHOD:PUBLISH
X-WR-CALNAME:Monts Actus
X-ORIGINAL-URL:https://monts-actus.fr
X-WR-CALDESC:Events for Monts Actus
REFRESH-INTERVAL;VALUE=DURATION:PT1H
X-Robots-Tag:noindex
X-PUBLISHED-TTL:PT1H
BEGIN:VTIMEZONE
TZID:Europe/Paris
BEGIN:DAYLIGHT
TZOFFSETFROM:+0100
TZOFFSETTO:+0200
TZNAME:CEST
DTSTART:20240331T010000
END:DAYLIGHT
BEGIN:STANDARD
TZOFFSETFROM:+0200
TZOFFSETTO:+0100
TZNAME:CET
DTSTART:20241027T010000
END:STANDARD
END:VTIMEZONE
BEGIN:VEVENT
DTSTART;TZID=Europe/Paris:20240407T073000
DTEND;TZID=Europe/Paris:20240407T073000
DTSTAMP:20260422T174717
CREATED:20240402T160838Z
LAST-MODIFIED:20240402T161114Z
UID:7423-1712475000-1712475000@monts-actus.fr
SUMMARY:Marche du Mottet
DESCRIPTION:Marche du Mottet à Maringes – Dimanche 7 avril 2024 \nParcours de 5 à 30km. Ravitaillements sur les parcours.\nMarche organisée par l’Association Rando Trail Passion. \nTarif et Relais :\n5\,2 km -> 5 € – Pas de relais\n10\,5 km -> 6 € et 1 relais\n14\,9 km -> 7 € et 1 relais\n19\,9 km -> 8 € et 2 relais\n23\,8 km -> 9 € et 3 relais\n29\,3 km -> 9 € et 3 relais \nBarbecue-pâtes offert à l’arrivée. \nPour ceux qui aiment marcher\, réserver la date !
URL:https://monts-actus.fr/agenda/marche-du-mottet/
LOCATION:Maringes
CATEGORIES:Maringes
ATTACH;FMTTYPE=image/jpeg:https://monts-actus.fr/wp-content/uploads/2024/04/Marche-du-mottet-Maringes-7-avril-2024-Monts-Actus.jpg
END:VEVENT
END:VCALENDAR