BEGIN:VCALENDAR
VERSION:2.0
PRODID:-//Monts Actus - ECPv5.16.1//NONSGML v1.0//EN
CALSCALE:GREGORIAN
METHOD:PUBLISH
X-WR-CALNAME:Monts Actus
X-ORIGINAL-URL:https://monts-actus.fr
X-WR-CALDESC:Events for Monts Actus
REFRESH-INTERVAL;VALUE=DURATION:PT1H
X-Robots-Tag:noindex
X-PUBLISHED-TTL:PT1H
BEGIN:VTIMEZONE
TZID:Europe/Paris
BEGIN:DAYLIGHT
TZOFFSETFROM:+0100
TZOFFSETTO:+0200
TZNAME:CEST
DTSTART:20240331T010000
END:DAYLIGHT
BEGIN:STANDARD
TZOFFSETFROM:+0200
TZOFFSETTO:+0100
TZNAME:CET
DTSTART:20241027T010000
END:STANDARD
END:VTIMEZONE
BEGIN:VEVENT
DTSTART;TZID=Europe/Paris:20240706T143000
DTEND;TZID=Europe/Paris:20240706T143000
DTSTAMP:20260421T145203
CREATED:20240624T155602Z
LAST-MODIFIED:20240624T155602Z
UID:8294-1720276200-1720276200@monts-actus.fr
SUMMARY:Festi'mess à Messimy
DESCRIPTION:Festi’mess à Messimy – Samedi 6 juillet 2024 \n1ère édition de « FESTI’MESS » organisée par la Commune de Messimy et les associations. \nRendez-vous sur la place de la Chaussonnière pour une journée conviviale et sportive\, pleine de défis et de découvertes pour tous ! \nAu programme :\n– Course aux Points par Équipe : partez à l’aventure en parcourant les stands tenus par les associations locales disséminées sur tout le territoire de la commune. Chaque stand proposera un défi unique à relever pour collecter un maximum de points.\n– La surprise !! un stand foufou pour soutenir le héro local des Paris 2024\, Alexis Jandard .\n– Animations sur la Place du Village : démonstrations\, musique et un repas partagé en soirée. \nInscriptions des équipes (gratuite). \nBuvette et restauration sur place. \n 
URL:https://monts-actus.fr/agenda/festimess-a-messimy/
LOCATION:Messimy
CATEGORIES:Messimy
ATTACH;FMTTYPE=image/jpeg:https://monts-actus.fr/wp-content/uploads/2024/06/Festimess-Messimy-6-juillet-2024-Monts-Actus.jpg
END:VEVENT
BEGIN:VEVENT
DTSTART;TZID=Europe/Paris:20240714T180000
DTEND;TZID=Europe/Paris:20240714T180000
DTSTAMP:20260421T145203
CREATED:20240711T122358Z
LAST-MODIFIED:20240711T122358Z
UID:8479-1720980000-1720980000@monts-actus.fr
SUMMARY:Fête Nationale à Messimy
DESCRIPTION:Fête Nationale à Messimy – Dimanche 14 juillet 2024 \nL’amicale des sapeurs pompiers de Messimy\, en collaboration avec la Mairie\, vous donnent rendez-vous à 18 h dans le Parc des Loisirs du Vourlat. \nAu programme : \nAnimations pour les enfants\, concerts\, feu d’artifice \n\nBuvette et restauration sur place
URL:https://monts-actus.fr/agenda/fete-nationale-a-messimy/
LOCATION:Messimy
CATEGORIES:Messimy
ATTACH;FMTTYPE=image/jpeg:https://monts-actus.fr/wp-content/uploads/2024/07/Fete-Nationale-Messimy-14-juillet-2024-Monts-Actus.jpg
END:VEVENT
END:VCALENDAR