BEGIN:VCALENDAR
VERSION:2.0
PRODID:-//Monts Actus - ECPv5.16.1//NONSGML v1.0//EN
CALSCALE:GREGORIAN
METHOD:PUBLISH
X-WR-CALNAME:Monts Actus
X-ORIGINAL-URL:https://monts-actus.fr
X-WR-CALDESC:Events for Monts Actus
REFRESH-INTERVAL;VALUE=DURATION:PT1H
X-Robots-Tag:noindex
X-PUBLISHED-TTL:PT1H
BEGIN:VTIMEZONE
TZID:Europe/Paris
BEGIN:DAYLIGHT
TZOFFSETFROM:+0100
TZOFFSETTO:+0200
TZNAME:CEST
DTSTART:20240331T010000
END:DAYLIGHT
BEGIN:STANDARD
TZOFFSETFROM:+0200
TZOFFSETTO:+0100
TZNAME:CET
DTSTART:20241027T010000
END:STANDARD
END:VTIMEZONE
BEGIN:VEVENT
DTSTART;TZID=Europe/Paris:20240330T190000
DTEND;TZID=Europe/Paris:20240330T220000
DTSTAMP:20260422T055032
CREATED:20240319T104246Z
LAST-MODIFIED:20240319T104400Z
UID:7197-1711825200-1711836000@monts-actus.fr
SUMMARY:Concert Caritatif
DESCRIPTION:Concert Caritatif à Pollionnay – Samedi 30 mars 2024 \nRendez-vous à 19 h à la salle des fêtes de Pollionnay \nConcert caritatif au profit des Associations :\n– Grégory Lemarchal « Ensemble contre la mucoviscidose » et\n– Lutins du R3\, les enfants de Léon Bérard \nDeux groupes partageront la scène : les Reum’s Arrangées (pop rock) et les Croonies (crooner Léonard Cohen). \nPrix : adulte 10 € ; de 5 à 12 ans 5 € et gratuit pour les moins de 5 ans. \nPré-réservation : lescroonies@gmail.com \nVenez nombreux\, c’est pour la bonne cause !
URL:https://monts-actus.fr/agenda/concert-caritatif/
LOCATION:Pollionnay
CATEGORIES:Pollionnay
ATTACH;FMTTYPE=image/jpeg:https://monts-actus.fr/wp-content/uploads/2024/03/Concert-Pollionnay-30-mars-2024-Monts-Actus.jpg
END:VEVENT
END:VCALENDAR