BEGIN:VCALENDAR
VERSION:2.0
PRODID:-//Monts Actus - ECPv5.16.1//NONSGML v1.0//EN
CALSCALE:GREGORIAN
METHOD:PUBLISH
X-ORIGINAL-URL:https://monts-actus.fr
X-WR-CALDESC:Events for Monts Actus
REFRESH-INTERVAL;VALUE=DURATION:PT1H
X-Robots-Tag:noindex
X-PUBLISHED-TTL:PT1H
BEGIN:VTIMEZONE
TZID:Europe/Paris
BEGIN:DAYLIGHT
TZOFFSETFROM:+0100
TZOFFSETTO:+0200
TZNAME:CEST
DTSTART:20240331T010000
END:DAYLIGHT
BEGIN:STANDARD
TZOFFSETFROM:+0200
TZOFFSETTO:+0100
TZNAME:CET
DTSTART:20241027T010000
END:STANDARD
END:VTIMEZONE
BEGIN:VEVENT
DTSTART;TZID=Europe/Paris:20240630T100000
DTEND;TZID=Europe/Paris:20240630T180000
DTSTAMP:20260422T022311
CREATED:20240624T093505Z
LAST-MODIFIED:20240624T095517Z
UID:8266-1719741600-1719770400@monts-actus.fr
SUMMARY:Estivale des forêts
DESCRIPTION:Estivale des forêts à Pollionnay – Sourcieux-les-Mines / Dimanche 30 juin 2024 \nFibois 69\, association des professionnels de la filière forêt/bois du Rhône\, organise une journée familiale et ludique autour du thème de la forêt et des métiers du bois. \n🌳 Animations encadrées par des professionnels 🌿🍁 \nEn accès libre de 10 h à 18 h :\n– Jeu de piste\n– Exposition\n– Démonstrations professionnelles : fabrication de charpente et menuiserie\n– Stand découverte de la filière\n– Jeux en bois \nEntre 10 h et 14 h :\nBalade forestière d’1 h 30 \n10 h 30\, 14 h 00 et 16 h 00 :\nBricolage pour enfants \n10 h 30 et 15 h 00 :\nAtelier « Fresque de la forêt et du bois »\nEssence challenge : bâtissez la diversité \nParking Col de la Croix du Ban (20 min à pied) / GAEC GRAEL (30 min à pied) \nEntrée gratuite\nBuvette sur place
URL:https://monts-actus.fr/agenda/estivale-des-forets/
LOCATION:Pollionnay
CATEGORIES:Pollionnay
ATTACH;FMTTYPE=image/jpeg:https://monts-actus.fr/wp-content/uploads/2024/06/Estivale-des-forets-Pollionnay-dimanche-30-juin-2024-Monts-Actus.jpg
END:VEVENT
END:VCALENDAR