BEGIN:VCALENDAR
VERSION:2.0
PRODID:-//Monts Actus - ECPv5.16.1//NONSGML v1.0//EN
CALSCALE:GREGORIAN
METHOD:PUBLISH
X-ORIGINAL-URL:https://monts-actus.fr
X-WR-CALDESC:Events for Monts Actus
REFRESH-INTERVAL;VALUE=DURATION:PT1H
X-Robots-Tag:noindex
X-PUBLISHED-TTL:PT1H
BEGIN:VTIMEZONE
TZID:Europe/Paris
BEGIN:DAYLIGHT
TZOFFSETFROM:+0100
TZOFFSETTO:+0200
TZNAME:CEST
DTSTART:20240331T010000
END:DAYLIGHT
BEGIN:STANDARD
TZOFFSETFROM:+0200
TZOFFSETTO:+0100
TZNAME:CET
DTSTART:20241027T010000
END:STANDARD
END:VTIMEZONE
BEGIN:VEVENT
DTSTART;TZID=Europe/Paris:20241027T083000
DTEND;TZID=Europe/Paris:20241027T173000
DTSTAMP:20260421T195020
CREATED:20240911T135818Z
LAST-MODIFIED:20240911T140530Z
UID:8940-1730017800-1730050200@monts-actus.fr
SUMMARY:Le Monts du Lyonnais VTT festival
DESCRIPTION:Le Monts du Lyonnais VTT festival à Pollionnay – Dimanche 27 octobre 2024 \nL’association Dig des Monts\, en partenariat avec la Mairie de Pollionnay\, organise une journée de festival le 27 octobre de 8 h 30 à 17 h 30. \nAu programme : \nSalle d’escalade : village de test vtts qui seront amenés par les principaux magasins lyonnais avec deux boucles de test.\n\nCentre village :– Stands autour du vtt (acteurs locaux\, mécanique\, Mcf\, …)– Restauration : produits locaux\, menu concocté par un restaurateur du village\, brasseurs\, snacks…– Animations pour les enfants– Départ de plusieurs boucles de vtt : 2 boucles familles et 1 parcours typé enduro et 1 boucle typée XC\n\nPour vous inscrire et pour le Repas « Le Pot Lyonnais »: site HelloAsso.\nPrix : de 20 à 40 €
URL:https://monts-actus.fr/agenda/le-monts-du-lyonnais-vtt-festival/
LOCATION:Pollionnay
CATEGORIES:Pollionnay
ATTACH;FMTTYPE=image/jpeg:https://monts-actus.fr/wp-content/uploads/2024/09/Monts-du-lyonnais-VTT-Festival-Pollionnay-27-octobre-2024-Monts-Actus.jpg
END:VEVENT
END:VCALENDAR