BEGIN:VCALENDAR
VERSION:2.0
PRODID:-//Monts Actus - ECPv5.16.1//NONSGML v1.0//EN
CALSCALE:GREGORIAN
METHOD:PUBLISH
X-ORIGINAL-URL:https://monts-actus.fr
X-WR-CALDESC:Events for Monts Actus
REFRESH-INTERVAL;VALUE=DURATION:PT1H
X-Robots-Tag:noindex
X-PUBLISHED-TTL:PT1H
BEGIN:VTIMEZONE
TZID:Europe/Paris
BEGIN:DAYLIGHT
TZOFFSETFROM:+0100
TZOFFSETTO:+0200
TZNAME:CEST
DTSTART:20230326T010000
END:DAYLIGHT
BEGIN:STANDARD
TZOFFSETFROM:+0200
TZOFFSETTO:+0100
TZNAME:CET
DTSTART:20231029T010000
END:STANDARD
END:VTIMEZONE
BEGIN:VEVENT
DTSTART;VALUE=DATE:20230610
DTEND;VALUE=DATE:20230611
DTSTAMP:20260425T202012
CREATED:20230521T134529Z
LAST-MODIFIED:20230521T134950Z
UID:5114-1686355200-1686441599@monts-actus.fr
SUMMARY:20 ans de la Maison de Pays des Monts du Lyonnais
DESCRIPTION:La Maison de Pays des Monts du Lyonnais comptabilise déjà 20 ans d’existence !\nTous les bénévoles de l’Association ARPAMOLY ont bien l’intention de fêter cet anniversaire\, avec l’aide de la Municipalité de Saint-Martin-en-Haut\, de l’OTI et de la CCMDL. \nRetracer 20 ans d’expositions n’est pas une petite affaire !!! En effet\, ce sont environ 200 artistes\, 50 associations locales\, 40 grosses expositions « Patrimoine » et 20 Marchés de Noël (avec chaque année une vingtaine d’exposants) qui ont attiré aux environs de 10 000 visiteurs par an. \nNous vous donnons donc rendez-vous\, du 27 Mai au 9 Juillet 2023\, pour 6 semaines d’expositions rétrospectives ! « 20 ANS D’EXPO »\, c’est : \n\nune exposition collective de nombreux artistes ayant réalisés des œuvres spécialement pour l’événement et respectant le thème imposé : LE CHIFFRE 20. C’est à vous de venir voter pour attribuer le « Prix Public »\, qui sera décerné le Dimanche 9 Juillet !\nune exposition – jeu pour découvrir le patrimoine tout en vous amusant (tout public). N’hésitez pas à participer\, des surprises sont à gagner !\n\nSamedi 10 Juin : Fêtons ensemble l’anniversaire de la Maison de Pays des Monts du Lyonnais ! \n\n15h : début des festivités – accueil en musique\n15h30 : rapide historique de la naissance de la Maison de Pays\n16h : goûter offert en musique\, en chants et en danses\n17h : spectacle « Y’a d’la vie dans le nid » de la Compagnie Nid’Poule (à partir des tout-petits jusqu’à 8 ans et tout public) – durée : 45 min – lieu : Salle Farandole (en Mairie)\njusqu’à 19h30 : la fête continue !\n\nToute l’après-midi\, venez profiter d’animations festives\, ludiques et gratuites\, pour toute la famille:\n* Frenchie and the Gentleman – duo chant et musique\n* danses – Les Auvergnats de Meys\n* danses des majorettes de Chazelles-sur-Lyon\n* clown en déambulation\n* grands jeux de la Ludothèque des Monts du Lyonnais\n* atelier land art et green art\n* démonstrations de tournage sur bois\n* démonstrations de linogravure et de peinture\n* fabrication de chapeaux de paille (Maison des Métiers de Saint-Symphorien-sur-Coise)\n* à la rencontre des associations « Araire » et « ASLGF des Monts et Coteaux du Lyonnais »\n* à la rencontre des bénévoles ARPAMOLY en visitant l’exposition « 20 ANS D’EXPO ». \nIl nous tient à cœur d’inclure la population locale à cet événement et de remercier nos fidèles et nombreux visiteurs en leur organisant toutes ces belles activités. \nDites-le autour de vous\, nous vous attendons nombreux !
URL:https://monts-actus.fr/agenda/20-ans-de-la-maison-de-pays-des-monts-du-lyonnais/
LOCATION:Maison de Pays\, Saint-Martin-en-Haut\, 69850\, France
CATEGORIES:Saint-Martin-en-Haut
ATTACH;FMTTYPE=image/jpeg:https://monts-actus.fr/wp-content/uploads/2023/05/20-ans-de-la-Maison-de-Pays-des-Monts-du-Lyonnais-Saint-Martin-en-Haut-Monts-Actus-scaled.jpg
END:VEVENT
BEGIN:VEVENT
DTSTART;VALUE=DATE:20230618
DTEND;VALUE=DATE:20230619
DTSTAMP:20260425T202012
CREATED:20230605T141122Z
LAST-MODIFIED:20230607T142303Z
UID:5268-1687046400-1687132799@monts-actus.fr
SUMMARY:Balade solidaire - Association Cassandra
DESCRIPTION:Ensemble pour vaincre les maladies rares ! \nRendez-vous Dimanche 18 juin 2023 pour une Balade solidaire au profit de l’Association Cassandra  \n📍 Départ : Salle des Fêtes – Place du Plon – 69850 Saint-Martin-en-Haut\n📝 Inscriptions et départs de 7h30 à 14h \nParcours pédestres avec ravitaillement : 7 km\, 14 km et 20 km au choix\nAnimations et collation à l’arrivée avec des produits locaux \nInscriptions à partir de 6 euros par personne\n1€ reçu = 1€ reversé \n  \nL’Association Cassandra \nL’Association CASSANDRA – cancers pédiatriques – lutte contre les cancers pédiatriques en finançant la recherche contre les cancers de l’enfant. Elle aide les familles d’enfants atteints de cancers\, et sensibilise le public aux dons de vie (dons de sang\, de plaquettes\, de plasma\, de sang\, de cordon et de moelle osseuse). En souvenir de Cassandra décédée d’une leucémie à l’âge de 21 mois\, et animés par la devise de l’association\, « parce que d’un malheur peut naître l’espoir »\, 500 bénévoles œuvrent dans toute la France au sein de ses antennes départementales pour récolter des fonds pour la recherche et promouvoir des dons de vie. \nEt si vous ne pouvez participer à la balade du 18 juin\, vous pouvez toujours : \n\nAdresser un chèque à l’association\nlibellé à l’ordre de l’Association CASSANDRA\, par courrier au :\n30 rue du Clair – 69440 St Laurent d’Agny\nFaire un don en ligne sur :\nhttps://www.helloasso.com/associations/association-cassandra-accl/formulaires/1\n\nVotre don ouvre droit à une réduction d’impôt égale à 66% dans la limite de\n20% du revenu imposable. Ainsi\, un don de 50 € vous revient en réalité à 17€. \n  \nUn événement porté par La Fondation Groupama \nLa Fondation Groupama soutient la lutte contre les maladies rares aux côtés des associations de patients\, du corps médical\, de la recherche et des pouvoirs publics. \nSes actions : \n\naccompagner les associations\nsensibiliser et informer sur les maladies rares\nsoutenir la recherche et l’innovation\n\n 
URL:https://monts-actus.fr/agenda/balade-solidaire-association-cassandra-dimanche-18-juin-2023/
LOCATION:Saint-Martin-en-Haut\, 69850\, France
CATEGORIES:Saint-Martin-en-Haut
ATTACH;FMTTYPE=image/jpeg:https://monts-actus.fr/wp-content/uploads/2023/06/balage-solidaire-association-cassandra-18-juin-2023-saint-martin-en-haut-monts-actus-scaled.jpg
END:VEVENT
END:VCALENDAR