BEGIN:VCALENDAR
VERSION:2.0
PRODID:-//Monts Actus - ECPv5.16.1//NONSGML v1.0//EN
CALSCALE:GREGORIAN
METHOD:PUBLISH
X-ORIGINAL-URL:https://monts-actus.fr
X-WR-CALDESC:Events for Monts Actus
REFRESH-INTERVAL;VALUE=DURATION:PT1H
X-Robots-Tag:noindex
X-PUBLISHED-TTL:PT1H
BEGIN:VTIMEZONE
TZID:Europe/Paris
BEGIN:DAYLIGHT
TZOFFSETFROM:+0100
TZOFFSETTO:+0200
TZNAME:CEST
DTSTART:20240331T010000
END:DAYLIGHT
BEGIN:STANDARD
TZOFFSETFROM:+0200
TZOFFSETTO:+0100
TZNAME:CET
DTSTART:20241027T010000
END:STANDARD
END:VTIMEZONE
BEGIN:VEVENT
DTSTART;VALUE=DATE:20240121
DTEND;VALUE=DATE:20240122
DTSTAMP:20260423T091107
CREATED:20231105T095005Z
LAST-MODIFIED:20231208T124703Z
UID:6127-1705795200-1705881599@monts-actus.fr
SUMMARY:Chœurs pour Cœur - Concert de la maîtrise Saint-Marc
DESCRIPTION:Concert de la maîtrise Saint-Marc «Les Choristes» au profit de l’association Cœur en St Martin \nDimanche 21 janvier 2024 – 15h – Église de Saint-Martin-en-Haut \nConcert sous la direction de Nicolas PORTE \nLes bénéfices du concert sont au profit de l’association Cœur en St Martin\, qui accueille des enfants atteints du cancer et apporte une aide aux aidants. \nBilletterie : https://www.helloasso.com/associations/coeur-en-saint-martin/evenements/billetterie
URL:https://monts-actus.fr/agenda/choeurs-pour-coeur-concert-de-la-maitrise-saint-marc-saint-martin-en-haut/
LOCATION:Saint-Martin-en-Haut\, 69850\, France
CATEGORIES:Saint-Martin-en-Haut
ATTACH;FMTTYPE=image/jpeg:https://monts-actus.fr/wp-content/uploads/2023/12/choeurs-pour-coeur-concert-maitrise-saint-marc-eglise-saint-martin-en-haut-monts-actus-scaled.jpg
END:VEVENT
END:VCALENDAR