BEGIN:VCALENDAR
VERSION:2.0
PRODID:-//Monts Actus - ECPv5.16.1//NONSGML v1.0//EN
CALSCALE:GREGORIAN
METHOD:PUBLISH
X-ORIGINAL-URL:https://monts-actus.fr
X-WR-CALDESC:Events for Monts Actus
REFRESH-INTERVAL;VALUE=DURATION:PT1H
X-Robots-Tag:noindex
X-PUBLISHED-TTL:PT1H
BEGIN:VTIMEZONE
TZID:Europe/Paris
BEGIN:DAYLIGHT
TZOFFSETFROM:+0100
TZOFFSETTO:+0200
TZNAME:CEST
DTSTART:20240331T010000
END:DAYLIGHT
BEGIN:STANDARD
TZOFFSETFROM:+0200
TZOFFSETTO:+0100
TZNAME:CET
DTSTART:20241027T010000
END:STANDARD
END:VTIMEZONE
BEGIN:VEVENT
DTSTART;TZID=Europe/Paris:20240302T210000
DTEND;TZID=Europe/Paris:20240303T020000
DTSTAMP:20260423T054930
CREATED:20240301T085352Z
LAST-MODIFIED:20240301T085352Z
UID:6986-1709413200-1709431200@monts-actus.fr
SUMMARY:Bal de la Motor’s
DESCRIPTION:Le Bal de la Motor’s revient à Saint-Martin-en-Haut pour un acte 2 !  \n📅 RDV SAMEDI 2 MARS\n🕙 De 21h à 2h\n🔉 Animé par Propul’Son \n____________________ \n🎧 LINE-UP\nQuentin Mazuel\nMaxence Bastion\nLilian Fournel \n____________________ \n🎟 BILLETTERIE\n👉 Billetterie sur place \n____________________ \n✦ LIEU ✦\n📍 Sales des Fêtes\nParking Le Plomb\n69850 Saint-Martin-en-Haut\n🚍 Ligne 2 Ex – Arrêt « Le Plomb »
URL:https://monts-actus.fr/agenda/bal-motors-saint-martin-en-haut/
LOCATION:Saint-Martin-en-Haut\, 69850\, France
CATEGORIES:Saint-Martin-en-Haut
ATTACH;FMTTYPE=image/jpeg:https://monts-actus.fr/wp-content/uploads/2024/03/bal-la-motors-2-mars-2024-saint-martin-en-haut-monts-actus.jpeg
END:VEVENT
BEGIN:VEVENT
DTSTART;VALUE=DATE:20240310
DTEND;VALUE=DATE:20240316
DTSTAMP:20260423T054930
CREATED:20240226T093123Z
LAST-MODIFIED:20240229T095657Z
UID:6756-1710028800-1710547199@monts-actus.fr
SUMMARY:Projections Documentaire LES AGROFRANGINS
DESCRIPTION:Vous avez dit agroécologie… mais laquelle ?\nMicro-ferme vs. Intégration dans la grande distribution : des modèles d’agriculture durable irréconciliables ? Pas si sûr…\nPartez à la rencontre de Matthias et Grégoire\, mes frangins maraîchers\, et leurs deux fermes en région toulousaine… plus complémentaires qu’il n’y paraît ?! \n  \nDates de projection dans les Monts du Lyonnais\, présence du réalisateur : \n\nSAINT-MARTIN-EN-HAUT – Dimanche 10 mars 14h – « Festivache »\, Cinéma Le Paradiso\nSAINT-MARTIN-EN-HAUT – Mardi 12 mars 14h – « Festivache »\, Cinéma Le Paradiso\nMORNANT – Jeudi 14 mars 20h30 – « Festivache »\, Ciné Jean Carmet\nSAINT-LAURENT-D’AGNY – Vendredi 15 mars 20h – « Tous Clim’Acteurs »\, Salle Platanes\n\n  \nBande-annonce \n \n  \nMot du Réalisateur \nJ’ai la chance d’être l’aîné de cinq. Lorsque Matthias et Grégoire\, mes deux plus jeunes frères\, lancent chacun de leur côté des fermes de maraîchage bio en région toulousaine\, je les rejoins. \nS’ils partagent une vision pragmatique de l’agroécologie ancrée dans l’action\, leurs projets proposent des modèles différents : micro-ferme pour l’un\, intégration à la grande distribution pour l’autre… Leurs parcours parallèles se font ainsi l’écho des enjeux auxquels nous faisons face collectivement pour notre agriculture et notre alimentation. \nFrère aîné derrière la caméra\, je découvre en chemin les hommes qu’ils sont devenus. \n– Thibault SERVAN\, Réalisateur du documentaire LES AGROFRANGINS
URL:https://monts-actus.fr/agenda/projections-documentaire-les-agrofrangins/
LOCATION:Monts du Lyonnais
CATEGORIES:Saint-Martin-en-Haut
ATTACH;FMTTYPE=image/jpeg:https://monts-actus.fr/wp-content/uploads/2024/02/documentaire-agrofrangins_mars-2024_-projection-cinema-monts-du-lyonnais_monts-actus.jpg
END:VEVENT
BEGIN:VEVENT
DTSTART;TZID=Europe/Paris:20240322T143000
DTEND;TZID=Europe/Paris:20240322T143000
DTSTAMP:20260423T054930
CREATED:20240302T130947Z
LAST-MODIFIED:20240302T131216Z
UID:7053-1711117800-1711117800@monts-actus.fr
SUMMARY:Thé Dansant
DESCRIPTION:Thé dansant à Saint-Martin-en-Haut\, vendredi 22 mars 2024 \nL’association Amitié Sourire organise un Thé Dansant à partir de 14 h 30 à la salle des fêtes. \nC’est l’orchestre Pierre-Alain Krummenacher qui animera l’après-midi. \nLes bénéfices iront au profit des Résidents de la Maison de Retraite l’Arc-en-ciel de Saint-Martin-en-haut.
URL:https://monts-actus.fr/agenda/the-dansant/
LOCATION:Saint-Martin-en-Haut\, 69850\, France
CATEGORIES:Saint-Martin-en-Haut
ATTACH;FMTTYPE=image/jpeg:https://monts-actus.fr/wp-content/uploads/2024/03/The-dansant-Saint-Martin-en-Haut-22-mars-2024-Monts-Actus.jpg
END:VEVENT
BEGIN:VEVENT
DTSTART;TZID=Europe/Paris:20240324T080000
DTEND;TZID=Europe/Paris:20240324T170000
DTSTAMP:20260423T054930
CREATED:20240229T173529Z
LAST-MODIFIED:20240229T173658Z
UID:6975-1711267200-1711299600@monts-actus.fr
SUMMARY:Randonnée des Fagotiers
DESCRIPTION:Randonnée des Fagotiers à Saint-Martin-en-Haut\, Dimanche 24 mars 2024 \nLe Comité d’Animation vous donne rendez-vous à la Salle des Fêtes\, place du Plon pour la 31ème randonnée pédestre des Fagotiers à partir de 8 heures \n4 parcours seront proposés :\n7 km – 5 €\n15 km – 6 €\n21 km – 7 €\n29 km – 8 €\nLes départs se feront entre 8 heures et 15 heures\, sauf pour les parcours 21 et 29 km\, le dernier départ est à 11 heures. \nDes ravitaillements sont prévus le long des parcours et un saucisson chaud et pommes vapeur est offert à l’arrivée ! \nUn gobelet à 1 € sera proposé au départ des parcours. \nLe Comité d’Animation vous attend nombreux !
URL:https://monts-actus.fr/agenda/randonnee-des-fagotiers/
LOCATION:Saint-Martin-en-Haut\, 69850\, France
CATEGORIES:Saint-Martin-en-Haut
ATTACH;FMTTYPE=image/jpeg:https://monts-actus.fr/wp-content/uploads/2024/02/Randonnee-des-fagotiers-Saint-Martin-en-Haut-24-mars-2024-Monts-Actus.jpg
END:VEVENT
END:VCALENDAR