BEGIN:VCALENDAR
VERSION:2.0
PRODID:-//Monts Actus - ECPv5.16.1//NONSGML v1.0//EN
CALSCALE:GREGORIAN
METHOD:PUBLISH
X-ORIGINAL-URL:https://monts-actus.fr
X-WR-CALDESC:Events for Monts Actus
REFRESH-INTERVAL;VALUE=DURATION:PT1H
X-Robots-Tag:noindex
X-PUBLISHED-TTL:PT1H
BEGIN:VTIMEZONE
TZID:Europe/Paris
BEGIN:DAYLIGHT
TZOFFSETFROM:+0100
TZOFFSETTO:+0200
TZNAME:CEST
DTSTART:20240331T010000
END:DAYLIGHT
BEGIN:STANDARD
TZOFFSETFROM:+0200
TZOFFSETTO:+0100
TZNAME:CET
DTSTART:20241027T010000
END:STANDARD
END:VTIMEZONE
BEGIN:VEVENT
DTSTART;TZID=Europe/Paris:20240810T210000
DTEND;TZID=Europe/Paris:20240814T210000
DTSTAMP:20260422T205235
CREATED:20240521T120309Z
LAST-MODIFIED:20240624T140232Z
UID:7958-1723323600-1723669200@monts-actus.fr
SUMMARY:40ème édition du Son et Lumière
DESCRIPTION:40ème édition du Son et Lumière à Saint Martin en Haut – du 10 au 14 août 2024 \n« Différentes bouches\, un seul son\, d’une seule et même voix\, à l’unisson » \nPour sa 40ème édition\, le spectacle Son & Lumière propose cette année un voyage captivant au temps du Japon féodal. Ce spectacle\, destiné aux grands comme aux petits\, se déroule au cœur d’un village entre forêt et volcan\, où un drame préoccupe les habitants : l’esprit du cerisier ne fleurit plus depuis 15 ans\, tandis que le volcan gronde de plus en plus fort. Les spectateurs suivront le dilemme du personnage principal\, partagé entre la fuite et la lutte pour préserver ce qui a été construit au fil des années. \nDates : 10\, 11\, 12\, 13 et 14 août 2024\nLieu : Site médiéval de Rochefort\, Saint-Martin-en-Haut \nQu’est-ce que le Son & Lumière ?\nLe Son et Lumière est un événement bénévole qui se déroule chaque été à Saint Martin en Haut. Il s’agit d’un spectacle vivant de deux heures\, joué en plein air\, avec différentes scènes rythmées par le son et la lumière\, et clôturé par un magnifique show pyrotechnique. Près de 400 bénévoles se mobilisent chaque année pour donner vie à une nouvelle histoire\, imaginée de toute pièce\, et transporter les spectateurs dans un univers riche en couleurs. \nDevenez bénévole\nVous souhaitez participer en tant que bénévole et donner un coup de main ? Plusieurs rôles sont possibles : jeu d’acteur\, danse\, technique son et lumière\, réalisation et gestion des décors et accessoires\, costumes\, maquillage\, pyrotechnie\, gestion de la buvette\, des parkings\, de l’intendance\, des entrées\, etc. Si vous êtes intéressé(e)\, contactez-nous à festival.stmartin@gmail.com\, sur notre site internet www.son-et-lumiere.fr ou via nos réseaux sociaux. \nAdmirez le spectacle\nLes billets sont en vente sur la billetterie en ligne et auprès de l’Office de Tourisme des Monts du Lyonnais (Saint-Martin-en-Haut). \nVous pouvez acheter vos places via :\nLa billetterie en ligne\nLe pass culture (pour les 15 à 18 ans)\nL’Office de Tourisme de Saint-Martin-en-Haut\nTarifs (majoration de 1€ sur la billetterie en ligne) : \nTarif adulte : 12€\, 14€\, 16€\nTarif enfant (6-12 ans) : 5€\nGratuit pour les moins de 6 ans \nPour plus d’informations\, veuillez contacter l’Office de Tourisme au 04.78.48.64.32. Merci de noter qu’aucune réservation ne peut se faire par téléphone et que le paiement se fait par chèque ou espèces (le paiement par carte bancaire est disponible uniquement sur la billetterie en ligne). \nInfos pratiques :\nBuvette et restauration locale\nPrévoir des vêtements chauds\nAccès handicapé prévu
URL:https://monts-actus.fr/agenda/40eme-edition-du-son-et-lumiere/
LOCATION:Saint-Martin-en-Haut\, 69850\, France
CATEGORIES:Saint-Martin-en-Haut
ATTACH;FMTTYPE=image/jpeg:https://monts-actus.fr/wp-content/uploads/2024/05/Son-et-lumiere-Saint-Martin-en-Haut-aout-2024-Monts-Actus.jpg
END:VEVENT
BEGIN:VEVENT
DTSTART;TZID=Europe/Paris:20240831T100000
DTEND;TZID=Europe/Paris:20240831T180000
DTSTAMP:20260422T205235
CREATED:20240711T074746Z
LAST-MODIFIED:20240711T074912Z
UID:8473-1725098400-1725127200@monts-actus.fr
SUMMARY:Châteaux folie
DESCRIPTION:Châteaux folie à Saint-Martin-en-Haut / Samedi 31 août 2024 \nL’Association des familles de Saint-Martin-en-Haut organise une journée de châteaux gonflables pour tous !   \nRendez-vous sur le terrain gris (en face du stade de foot)\, avenue des Hauts du Lyonnais de 10 h à 18 h. \n\nDes châteaux gonflables pour tous les enfants\, dont un entièrement réservé au moins de 3 ans. \nPrix : 5 € pour 1 heure \nSnack et buvette sur place !
URL:https://monts-actus.fr/agenda/chateaux-folie/
LOCATION:Saint-Martin-en-Haut\, 69850\, France
CATEGORIES:Saint-Martin-en-Haut
ATTACH;FMTTYPE=image/jpeg:https://monts-actus.fr/wp-content/uploads/2024/07/chateaux-folie-Saint-Martin-en-Haut-31-aout-2024-Monts-Actus.jpg
END:VEVENT
END:VCALENDAR