BEGIN:VCALENDAR
VERSION:2.0
PRODID:-//Monts Actus - ECPv5.16.1//NONSGML v1.0//EN
CALSCALE:GREGORIAN
METHOD:PUBLISH
X-WR-CALNAME:Monts Actus
X-ORIGINAL-URL:https://monts-actus.fr
X-WR-CALDESC:Events for Monts Actus
REFRESH-INTERVAL;VALUE=DURATION:PT1H
X-Robots-Tag:noindex
X-PUBLISHED-TTL:PT1H
BEGIN:VTIMEZONE
TZID:Europe/Paris
BEGIN:DAYLIGHT
TZOFFSETFROM:+0100
TZOFFSETTO:+0200
TZNAME:CEST
DTSTART:20240331T010000
END:DAYLIGHT
BEGIN:STANDARD
TZOFFSETFROM:+0200
TZOFFSETTO:+0100
TZNAME:CET
DTSTART:20241027T010000
END:STANDARD
END:VTIMEZONE
BEGIN:VEVENT
DTSTART;TZID=Europe/Paris:20241006T090000
DTEND;TZID=Europe/Paris:20241006T180000
DTSTAMP:20260422T175159
CREATED:20240911T114036Z
LAST-MODIFIED:20240911T114036Z
UID:8922-1728205200-1728237600@monts-actus.fr
SUMMARY:Journée Harcèlement et Trouble Alimentaire
DESCRIPTION:Journée Harcèlement et Trouble Alimentaire à Saint-Martin-en-Haut / Dimanche 6 octobre 2024 \nLa médiathèque de Saint-Martin-en-Haut organise une journée sur le harcèlement scolaire et les troubles du comportement alimentaire de 9 h à 18 h\, à la Salle des fêtes. \nIl y aura des auteurs\, des psys\, des intervenants\, des animations… \nEntrée gratuite.
URL:https://monts-actus.fr/agenda/journee-harcelement-et-trouble-alimentaire/
LOCATION:Saint-Martin-en-Haut\, 69850\, France
CATEGORIES:Saint-Martin-en-Haut
ATTACH;FMTTYPE=image/jpeg:https://monts-actus.fr/wp-content/uploads/2024/09/Journee-Harcelement-et-Trouble-Alimentaire-Saint-Martin-en-Haut-6-octobre-2024-Monts-Actus.jpg
END:VEVENT
BEGIN:VEVENT
DTSTART;TZID=Europe/Paris:20241023T183000
DTEND;TZID=Europe/Paris:20241023T183000
DTSTAMP:20260422T175159
CREATED:20240917T090759Z
LAST-MODIFIED:20240918T092700Z
UID:8964-1729708200-1729708200@monts-actus.fr
SUMMARY:Cocktail des chefs et des producteurs
DESCRIPTION:Cocktail des chefs et des producteurs à Saint-Martin-en-Haut / Mercredi 23 octobre 2024 \nCette 12ème édition au lieu à la salle des fêtes de Saint-Martin-en-Haut (Place du Plomb) à partir de 18 h 30. \nOrganisation : La marque Monts du Lyonnais\, terre de saveurs \nVenez découvrir des produits d’exception\, rencontrer les chefs talentueux et les producteurs locaux\, et déguster des créations culinaires qui éveilleront vos sens !  \n\nAu programme : \n\n Dégustations de mets préparés par des chefs de la région\n Découverte de produits frais en provenance directe des producteurs locaux\n Rencontres et échanges avec les artisans et les producteurs passionnés de notre région\nRéservez dès à présent votre place pour participer à cet événement et plongez dans une expérience culinaire inoubliable \n Inscription sur HelloAsso
URL:https://monts-actus.fr/agenda/cocktail-des-chefs-et-des-producteurs/
LOCATION:Saint-Martin-en-Haut\, 69850\, France
CATEGORIES:Saint-Martin-en-Haut
ATTACH;FMTTYPE=image/jpeg:https://monts-actus.fr/wp-content/uploads/2024/09/Cocktail-des-chefs-Saint-Martin-en-Haut-23-oct-2024-Monts-Actus.jpg
END:VEVENT
END:VCALENDAR