BEGIN:VCALENDAR
VERSION:2.0
PRODID:-//Monts Actus - ECPv5.16.1//NONSGML v1.0//EN
CALSCALE:GREGORIAN
METHOD:PUBLISH
X-ORIGINAL-URL:https://monts-actus.fr
X-WR-CALDESC:Events for Monts Actus
REFRESH-INTERVAL;VALUE=DURATION:PT1H
X-Robots-Tag:noindex
X-PUBLISHED-TTL:PT1H
BEGIN:VTIMEZONE
TZID:Europe/Paris
BEGIN:DAYLIGHT
TZOFFSETFROM:+0100
TZOFFSETTO:+0200
TZNAME:CEST
DTSTART:20250330T010000
END:DAYLIGHT
BEGIN:STANDARD
TZOFFSETFROM:+0200
TZOFFSETTO:+0100
TZNAME:CET
DTSTART:20251026T010000
END:STANDARD
END:VTIMEZONE
BEGIN:VEVENT
DTSTART;VALUE=DATE:20250323
DTEND;VALUE=DATE:20250324
DTSTAMP:20260422T100139
CREATED:20250307T094742Z
LAST-MODIFIED:20250307T094742Z
UID:9214-1742688000-1742774399@monts-actus.fr
SUMMARY:Matinée tripes - ASSM
DESCRIPTION:L’ASSM organise une Matinée tripes et saucisson chaud patate\, dimanche 23 mars 2025\, à partir de 7h30\, à la buvette du stade à Saint-Martin-en-Haut
URL:https://monts-actus.fr/agenda/matinee-tripes-assm-saint-martin-en-haut-2025/
LOCATION:Saint-Martin-en-Haut\, 69850\, France
CATEGORIES:Saint-Martin-en-Haut
ATTACH;FMTTYPE=image/jpeg:https://monts-actus.fr/wp-content/uploads/2025/03/Matinee-tripes-ASSM-saint-martin-en-haut-23-mars-2025-monts-actus.jpg
END:VEVENT
BEGIN:VEVENT
DTSTART;VALUE=DATE:20250328
DTEND;VALUE=DATE:20250329
DTSTAMP:20260422T100139
CREATED:20250324T102407Z
LAST-MODIFIED:20250324T102525Z
UID:9245-1743120000-1743206399@monts-actus.fr
SUMMARY:Concert de la Saint Patrick - Saint-Martin-en-Haut
DESCRIPTION:Dans le cadre de la Saint-Patrick et de la clôture du Festi’Vache 2025\, le Cinéma Paradiso vous propose un concert exceptionnel avec deux groupes\, vendredi 28 mars 2025\, à la Salle des Fêtes de Saint-Martin-en-Haut\, à partir de 19h30. \nDéroulé de la soirée :\n19h30 – 21h : Restauration et buvette\n21h – 22h30 : Concert Les Courant d’Eire (1ère partie)\n22h30 – 23h : Entracte avec Les Bambanes\n23h – 0h : Concert Les Courant d’Eire (2ème partie)\n0h – 2h : Concert Les Bambanes \nRestauration et buvette sur place \nBilletterie sur place 8€\nPré-vente en ligne 7€ ➡️ https://www.cinemaparadiso.fr/2702_ST_PATRICK_-_CONCERT_CLOTURE_FESTI_VACHE_2025.html \n  \nCOURANT D’EIRE\nCe groupe aindinois vous emmènera en Irlande au son d’une musique celtique débordante d’énergie\, de bonne humeur et de convivialité.Leur spectacle alterne entre des chansons écrites au stylo à bille bleu par « le grand » devant sur scène et des morceaux traditionnels irlandais revisités façon festivo-bressane. Accordéon diatonique\, violon\, flûtes\, cornemuse\, guitare\, claviers\, batterie\, percussions… et même poubelles et seaux de colle seront de la partie !\nAmbiance « tavernes surchauffées » garantie ! \nLES BAMBANES de Sainte-Catherine
URL:https://monts-actus.fr/agenda/concert-de-la-saint-patrick-saint-martin-en-haut/
LOCATION:Saint-Martin-en-Haut\, 69850\, France
CATEGORIES:Saint-Martin-en-Haut
ATTACH;FMTTYPE=image/jpeg:https://monts-actus.fr/wp-content/uploads/2025/03/concert-saint-partick-cloture-festivache-cinema-paradiso-saint-martin-en-haut-28-mars-2025-monts-actus.jpg
END:VEVENT
BEGIN:VEVENT
DTSTART;VALUE=DATE:20250329
DTEND;VALUE=DATE:20250330
DTSTAMP:20260422T100139
CREATED:20250306T113454Z
LAST-MODIFIED:20250306T113529Z
UID:9211-1743206400-1743292799@monts-actus.fr
SUMMARY:Fête du patois
DESCRIPTION:La MJC de Saint-Martin-en-Haut en partenariat avec l’AFPL (Amis du Francoprovençal en Pays Lyonnais) organise le samedi 29 mars « La Fête du patois » à la Salle des fêtes de Saint-Martin-en-Haut. \nAu programme :\n– 8H30 : Matinée soupe aux choux\n– 14H30 : Après-midi spectacle des patoisant·es (théâtre\, chants\,…)\n– 18H30 : Collation et parties de belote \nBuvette sur place
URL:https://monts-actus.fr/agenda/fete-du-patois-saint-martin-en-haut/
LOCATION:Saint-Martin-en-Haut\, 69850\, France
CATEGORIES:Saint-Martin-en-Haut
ATTACH;FMTTYPE=image/jpeg:https://monts-actus.fr/wp-content/uploads/2025/03/fete-du-patois-saint-martin-en-haut-samedi-29-mars-monts-actus.jpg
END:VEVENT
END:VCALENDAR