BEGIN:VCALENDAR
VERSION:2.0
PRODID:-//Monts Actus - ECPv5.16.1//NONSGML v1.0//EN
CALSCALE:GREGORIAN
METHOD:PUBLISH
X-WR-CALNAME:Monts Actus
X-ORIGINAL-URL:https://monts-actus.fr
X-WR-CALDESC:Events for Monts Actus
REFRESH-INTERVAL;VALUE=DURATION:PT1H
X-Robots-Tag:noindex
X-PUBLISHED-TTL:PT1H
BEGIN:VTIMEZONE
TZID:Europe/Paris
BEGIN:DAYLIGHT
TZOFFSETFROM:+0100
TZOFFSETTO:+0200
TZNAME:CEST
DTSTART:20230326T010000
END:DAYLIGHT
BEGIN:STANDARD
TZOFFSETFROM:+0200
TZOFFSETTO:+0100
TZNAME:CET
DTSTART:20231029T010000
END:STANDARD
END:VTIMEZONE
BEGIN:VEVENT
DTSTART;VALUE=DATE:20230810
DTEND;VALUE=DATE:20230815
DTSTAMP:20260425T185249
CREATED:20230606T132907Z
LAST-MODIFIED:20230621T100739Z
UID:5425-1691625600-1692057599@monts-actus.fr
SUMMARY:39ème Son & Lumière - Complètement à l'ouest
DESCRIPTION:“COMPLÈTEMENT À L’OUEST »  \nLa MJC et l’équipe organisatrice vous présentent la 39ème édition du Son & Lumière.  \nÊtes-vous prêts à être transportés au pays des saloons\, des bisons et des duels haletants ? \nVenez parcourir le monde fabuleux des cowboys\, déambuler dans le saloon le plus connu de la côte ouest et le majestueux village indien. \nCe 39ème Son & Lumière vous emmène au cœur de péripéties plus rocambolesques les unes que les autres. Entre monde indien et village cowboy\, l’édition 2023 sera pleine de rebondissements et accompagnée de nombreux rires. \nRetrouvez le Son & Lumière dans son format traditionnel\, joué en soirée\, avec un site de Rochefort illuminé d’effets visuels\, de décors et costumes saisissants. \nLe 10\, 11\, 12\, 13 et 14 août 2023\, à Rochefort – Saint Martin en Haut (69850)  \nLien de la billetterie : son-et-lumiere.fr/edition-2023/billetterie
URL:https://monts-actus.fr/agenda/39eme-son-lumiere-completement-a-louest-saint-martin-en-haut/
LOCATION:Rochefort\, Saint-Martin-en-Haut\, 69850\, France
CATEGORIES:Saint-Martin-en-Haut
ATTACH;FMTTYPE=image/jpeg:https://monts-actus.fr/wp-content/uploads/2023/06/39e-son-lumiere-10-au-14-aout-rochefort-saint-martin-en-haut-monts-actus.jpg
END:VEVENT
END:VCALENDAR