BEGIN:VCALENDAR
VERSION:2.0
PRODID:-//Monts Actus - ECPv5.16.1//NONSGML v1.0//EN
CALSCALE:GREGORIAN
METHOD:PUBLISH
X-ORIGINAL-URL:https://monts-actus.fr
X-WR-CALDESC:Events for Monts Actus
REFRESH-INTERVAL;VALUE=DURATION:PT1H
X-Robots-Tag:noindex
X-PUBLISHED-TTL:PT1H
BEGIN:VTIMEZONE
TZID:Europe/Paris
BEGIN:DAYLIGHT
TZOFFSETFROM:+0100
TZOFFSETTO:+0200
TZNAME:CEST
DTSTART:20230326T010000
END:DAYLIGHT
BEGIN:STANDARD
TZOFFSETFROM:+0200
TZOFFSETTO:+0100
TZNAME:CET
DTSTART:20231029T010000
END:STANDARD
END:VTIMEZONE
BEGIN:VEVENT
DTSTART;VALUE=DATE:20230922
DTEND;VALUE=DATE:20230925
DTSTAMP:20260425T173932
CREATED:20230818T060025Z
LAST-MODIFIED:20230818T160341Z
UID:5680-1695340800-1695599999@monts-actus.fr
SUMMARY:45ème Foire Économique des Monts du Lyonnais
DESCRIPTION:Plongez au cœur de l’effervescence économique locale lors de la 45ème Foire Économique des Monts du Lyonnais\, un événement incontournable célébrant l’agriculture\, le commerce et l’artisanat. \nDu 22 au 24 septembre 2023\, le village de Saint-Martin-en-Haut se transforme en un véritable champ de foire\, avec : \n\nles artisans du bâtiment\ndu matériel agricole\ndes véhicules automobiles\nle marché fermier\nles animaux de la ferme\nune exposition de véhicules de collections du Club VCML\ndes animations pour les enfants\ndes animations culturelles\nle marché forain\n\n  \nLe programme est riche et varié\, avec des moments forts chaque jour : \n\nVendredi 22 : La Foire ouvre ses portes à 14h30 pour une nocturne jusqu’à 20 heures\nSamedi 23 : À 10h30\, l’inauguration de la Foire débute. Le défilé est ouvert par une fanfare. L’après-midi vous réserve une palette d’animations pour tous les goûts\nDimanche 24 : Dès 8 heures\, savourez la traditionnelle Soupe aux choux\, sous la Mairie. Puis laissez-vous porter par les différentes animations prévues toute la journée\nEt tout le week-end : venez découvrir une Ferme au cœur de la Foire\, avec : le marché fermier et les nombreux animaux de la ferme\, la dégustation et la vente de produits locaux\n\n  \nLa Foire Économique des Monts du Lyonnais est un événement ouvert à tous\, une opportunité de découvrir et d’apprécier les richesses de la région dans une ambiance festive et chaleureuse. Ne manquez pas l’occasion de participer à cette 45ème édition\, où traditions et modernité s’entremêlent. Rendez-vous les 22\, 23 et 24 septembre 2023 dans les rues de Saint-Martin-en-Haut !
URL:https://monts-actus.fr/agenda/45eme-foire-economique-des-monts-du-lyonnais/
LOCATION:Saint-Martin-en-Haut\, 69850\, France
CATEGORIES:Saint-Martin-en-Haut
ATTACH;FMTTYPE=image/jpeg:https://monts-actus.fr/wp-content/uploads/2023/08/45e-foire-economique-des-monts-du-lyonnais_saint-martin-en-haut_monts-actus.jpeg
END:VEVENT
END:VCALENDAR