BEGIN:VCALENDAR
VERSION:2.0
PRODID:-//Monts Actus - ECPv5.16.1//NONSGML v1.0//EN
CALSCALE:GREGORIAN
METHOD:PUBLISH
X-ORIGINAL-URL:https://monts-actus.fr
X-WR-CALDESC:Events for Monts Actus
REFRESH-INTERVAL;VALUE=DURATION:PT1H
X-Robots-Tag:noindex
X-PUBLISHED-TTL:PT1H
BEGIN:VTIMEZONE
TZID:Europe/Paris
BEGIN:DAYLIGHT
TZOFFSETFROM:+0100
TZOFFSETTO:+0200
TZNAME:CEST
DTSTART:20240331T010000
END:DAYLIGHT
BEGIN:STANDARD
TZOFFSETFROM:+0200
TZOFFSETTO:+0100
TZNAME:CET
DTSTART:20241027T010000
END:STANDARD
END:VTIMEZONE
BEGIN:VEVENT
DTSTART;TZID=Europe/Paris:20240210T160000
DTEND;TZID=Europe/Paris:20240210T210000
DTSTAMP:20260423T091926
CREATED:20240122T144132Z
LAST-MODIFIED:20240122T144132Z
UID:6252-1707580800-1707598800@monts-actus.fr
SUMMARY:Carnaval des Petits Fagotiers
DESCRIPTION:Au vu du succès de l’année dernière\, la NAPE de l’École des Petits Fagotiers réitère son Carnaval\, samedi 10 février à la Salle des Arcades de Saint-Martin-en-Haut. \nEntrée gratuite pour toutes les personnes déguisées\, à partir de 16h\, ou 2€ pour ceux non-déguisés. \nBuvette et petite restauration sur place
URL:https://monts-actus.fr/agenda/carnaval-des-petits-fagotiers/
LOCATION:Saint-Martin-en-Haut\, 69850\, France
CATEGORIES:Saint-Martin-en-Haut
ATTACH;FMTTYPE=image/jpeg:https://monts-actus.fr/wp-content/uploads/2024/01/carnaval-des-petits-fagotiers-saint-martin-en-haut-samedi-10-fevrier-monts-actus-scaled.jpg
END:VEVENT
END:VCALENDAR