BEGIN:VCALENDAR
VERSION:2.0
PRODID:-//Monts Actus - ECPv5.16.1//NONSGML v1.0//EN
CALSCALE:GREGORIAN
METHOD:PUBLISH
X-WR-CALNAME:Monts Actus
X-ORIGINAL-URL:https://monts-actus.fr
X-WR-CALDESC:Events for Monts Actus
REFRESH-INTERVAL;VALUE=DURATION:PT1H
X-Robots-Tag:noindex
X-PUBLISHED-TTL:PT1H
BEGIN:VTIMEZONE
TZID:Europe/Paris
BEGIN:DAYLIGHT
TZOFFSETFROM:+0100
TZOFFSETTO:+0200
TZNAME:CEST
DTSTART:20240331T010000
END:DAYLIGHT
BEGIN:STANDARD
TZOFFSETFROM:+0200
TZOFFSETTO:+0100
TZNAME:CET
DTSTART:20241027T010000
END:STANDARD
END:VTIMEZONE
BEGIN:VEVENT
DTSTART;TZID=Europe/Paris:20240407T073000
DTEND;TZID=Europe/Paris:20240407T120000
DTSTAMP:20260423T055022
CREATED:20240402T081620Z
LAST-MODIFIED:20240402T081710Z
UID:7361-1712475000-1712491200@monts-actus.fr
SUMMARY:Matinée Tripes & Saucisson chaud patates - ASSM
DESCRIPTION:L’ASSM (club de football de Saint Martin en Haut) organise une Matinée Tripes & Saucisson chaud patates\, dimanche 7 avril 2024. \nRendez-vous à la buvette du stade de Saint Martin en Haut\, à partir de 7h30
URL:https://monts-actus.fr/agenda/matinee-tripes-saucisson-chaud-patates-assm-7-avril-2024/
LOCATION:Saint-Martin-en-Haut\, 69850\, France
CATEGORIES:Saint-Martin-en-Haut
ATTACH;FMTTYPE=image/jpeg:https://monts-actus.fr/wp-content/uploads/2024/04/matine-tripes-et-saucisson-chaud_assm_saint-martin-en-haut_monts-actus.jpg
END:VEVENT
END:VCALENDAR