BEGIN:VCALENDAR
VERSION:2.0
PRODID:-//Monts Actus - ECPv5.16.1//NONSGML v1.0//EN
CALSCALE:GREGORIAN
METHOD:PUBLISH
X-WR-CALNAME:Monts Actus
X-ORIGINAL-URL:https://monts-actus.fr
X-WR-CALDESC:Events for Monts Actus
REFRESH-INTERVAL;VALUE=DURATION:PT1H
X-Robots-Tag:noindex
X-PUBLISHED-TTL:PT1H
BEGIN:VTIMEZONE
TZID:Europe/Paris
BEGIN:DAYLIGHT
TZOFFSETFROM:+0100
TZOFFSETTO:+0200
TZNAME:CEST
DTSTART:20240331T010000
END:DAYLIGHT
BEGIN:STANDARD
TZOFFSETFROM:+0200
TZOFFSETTO:+0100
TZNAME:CET
DTSTART:20241027T010000
END:STANDARD
END:VTIMEZONE
BEGIN:VEVENT
DTSTART;TZID=Europe/Paris:20240413T110000
DTEND;TZID=Europe/Paris:20240413T110000
DTSTAMP:20260423T055048
CREATED:20240408T091152Z
LAST-MODIFIED:20240409T142114Z
UID:7458-1713006000-1713006000@monts-actus.fr
SUMMARY:Vernissage de l'expo "Le saucisson dans les Monts"
DESCRIPTION:Vernissage de l’expo « Le saucisson dans les Monts » à Saint-Martin-en-Haut – Samedi 13 avril 2024 \nLa Confrérie de la Noble Rosette et le Groupe Histoire et Patrimoine vous invite à les rencontrer à l’occasion du VERNISSAGE de l’EXPOSITION « Le saucisson dans les Monts » organisé à la Maison de Pays des Monts du Lyonnais (place de l’Eglise)\, le Samedi 13 Avril\, à 11h. \nLes Monts du Lyonnais produisent près de 30% du tonnage de saucissons secs fabriqués en France ! Pour accompagner cette position de leader a été créée en 2017 la Confrérie de la Noble Rosette des Monts du Lyonnais. Ses objectifs\, faire la promotion du saucisson mais aussi d’animer le Territoire. \nExposition du 13 Avril au 26 Mai 2024. \nEntrée libre et gratuite.
URL:https://monts-actus.fr/agenda/vernissage-de-lexpo-le-saucisson-dans-les-monts/
LOCATION:Saint-Martin-en-Haut\, 69850\, France
CATEGORIES:Saint-Martin-en-Haut
ATTACH;FMTTYPE=image/jpeg:https://monts-actus.fr/wp-content/uploads/2024/04/Expo-Saucisson-dans-les-Monts-13-avril-2024-Monts-Actus.jpg
END:VEVENT
BEGIN:VEVENT
DTSTART;TZID=Europe/Paris:20240413T210000
DTEND;TZID=Europe/Paris:20240414T010000
DTSTAMP:20260423T055048
CREATED:20240319T111930Z
LAST-MODIFIED:20240319T112028Z
UID:7208-1713042000-1713056400@monts-actus.fr
SUMMARY:Bal du BUHL
DESCRIPTION:Bal du BUHL à Saint-Martin-en-Haut – Samedi 13 avril 2024 \nLe Basket Union Haut Lyonnais vous attend à la salle des fêtes à partir de 21 h. \n Sono Dynamite pour vous faire danser toute la soirée\n Le burger des monts sera présent à partir de 20h00 avec son foodtruck\n \nPartagez l’info à vos amis pour remplir cette salle des fêtes et venir danser avec nous !
URL:https://monts-actus.fr/agenda/bal-du-buhl/
LOCATION:Saint-Martin-en-Haut\, 69850\, France
CATEGORIES:Saint-Martin-en-Haut
ATTACH;FMTTYPE=image/jpeg:https://monts-actus.fr/wp-content/uploads/2024/03/Bal-du-BUHL-Saint-Martin-en-Haut-13-avril-2024-Monts-Actus.jpg
END:VEVENT
END:VCALENDAR