BEGIN:VCALENDAR
VERSION:2.0
PRODID:-//Monts Actus - ECPv5.16.1//NONSGML v1.0//EN
CALSCALE:GREGORIAN
METHOD:PUBLISH
X-WR-CALNAME:Monts Actus
X-ORIGINAL-URL:https://monts-actus.fr
X-WR-CALDESC:Events for Monts Actus
REFRESH-INTERVAL;VALUE=DURATION:PT1H
X-Robots-Tag:noindex
X-PUBLISHED-TTL:PT1H
BEGIN:VTIMEZONE
TZID:Europe/Paris
BEGIN:DAYLIGHT
TZOFFSETFROM:+0100
TZOFFSETTO:+0200
TZNAME:CEST
DTSTART:20240331T010000
END:DAYLIGHT
BEGIN:STANDARD
TZOFFSETFROM:+0200
TZOFFSETTO:+0100
TZNAME:CET
DTSTART:20241027T010000
END:STANDARD
END:VTIMEZONE
BEGIN:VEVENT
DTSTART;TZID=Europe/Paris:20240511T210000
DTEND;TZID=Europe/Paris:20240511T210000
DTSTAMP:20260423T040323
CREATED:20240425T080904Z
LAST-MODIFIED:20240425T081158Z
UID:7684-1715461200-1715461200@monts-actus.fr
SUMMARY:Bal des balais
DESCRIPTION:Bal des balais à Saint-Martin-en-Haut – Samedi 11 mai 2024 \nRendez-vous à partir de 21 h à la salle des fêtes \nSono EM2 Events
URL:https://monts-actus.fr/agenda/bal-des-balais/
LOCATION:Saint-Martin-en-Haut\, 69850\, France
CATEGORIES:Saint-Martin-en-Haut
ATTACH;FMTTYPE=image/png:https://monts-actus.fr/wp-content/uploads/2024/04/Bal-des-balais-Saint-Martin-en-Haut-11-mai-2024-Monts-Actus.png
END:VEVENT
END:VCALENDAR