BEGIN:VCALENDAR
VERSION:2.0
PRODID:-//Monts Actus - ECPv5.16.1//NONSGML v1.0//EN
CALSCALE:GREGORIAN
METHOD:PUBLISH
X-WR-CALNAME:Monts Actus
X-ORIGINAL-URL:https://monts-actus.fr
X-WR-CALDESC:Events for Monts Actus
REFRESH-INTERVAL;VALUE=DURATION:PT1H
X-Robots-Tag:noindex
X-PUBLISHED-TTL:PT1H
BEGIN:VTIMEZONE
TZID:Europe/Paris
BEGIN:DAYLIGHT
TZOFFSETFROM:+0100
TZOFFSETTO:+0200
TZNAME:CEST
DTSTART:20240331T010000
END:DAYLIGHT
BEGIN:STANDARD
TZOFFSETFROM:+0200
TZOFFSETTO:+0100
TZNAME:CET
DTSTART:20241027T010000
END:STANDARD
END:VTIMEZONE
BEGIN:VEVENT
DTSTART;VALUE=DATE:20240518
DTEND;VALUE=DATE:20240519
DTSTAMP:20260423T040323
CREATED:20240416T160057Z
LAST-MODIFIED:20240416T160632Z
UID:7561-1715990400-1716076799@monts-actus.fr
SUMMARY:Ultra-Trail des Coursières
DESCRIPTION:Ultra Trail des Coursières à Saint-Martin-en-Haut – Samedi 18 mai 2024 \nDépart et arrivée de la salle des sports du petit Pont à Saint-Martin-en-Haut. \nL’Ultra-Trail des Coursières s’adresse à tous les publics et représente l’épreuve idéale pour débuter sur une longue distance ou pour se perfectionner et performer. Avec ses 4 points ITRA\, son statut de course qualificative pour la Western States 2025\, et son appartenance au réseau UTMB World Series Qualifier (UTMB index)\, notre course est reconnue et vous permettra de bien préparer les ultras montagneux de l’été. \nNotre maître mot : la convivialité ! Une course à taille humaine avec une ambiance unique et une organisation associative composée par des ultra-traileurs\, au cœur des Monts du Lyonnais\, entre Lyon et Saint-Etienne. Les 4 parcours sont entièrement renouvelés en 2024… \nNotre terrain de jeux est fantastique\, le parcours est constitué d’une succession de bosses typiques des Monts du Lyonnais\, avec la part belle faites aux chemins et singles\, ainsi que de nombreuses vues panoramiques.  \nUne course parmi les moins chers de France. Profitez de notre offre 2 + 1 gratuit ! \nD’autres formats de courses sont proposés 50 km / 25 km / 11 km et courses enfants.  \nAvec les bénéfices\, des randonnées en goélettes seront offertes à des personnes en situation de handicap. \nVenez vibrer avec nous ! \nTeaser Trail des Coursières
URL:https://monts-actus.fr/agenda/ultra-trail-des-coursieres/
LOCATION:Saint-Martin-en-Haut\, 69850\, France
CATEGORIES:Saint-Martin-en-Haut
ATTACH;FMTTYPE=image/jpeg:https://monts-actus.fr/wp-content/uploads/2024/04/Ultra-trail-des-coursieres.jpg
END:VEVENT
END:VCALENDAR