BEGIN:VCALENDAR
VERSION:2.0
PRODID:-//Monts Actus - ECPv5.16.1//NONSGML v1.0//EN
CALSCALE:GREGORIAN
METHOD:PUBLISH
X-ORIGINAL-URL:https://monts-actus.fr
X-WR-CALDESC:Events for Monts Actus
REFRESH-INTERVAL;VALUE=DURATION:PT1H
X-Robots-Tag:noindex
X-PUBLISHED-TTL:PT1H
BEGIN:VTIMEZONE
TZID:Europe/Paris
BEGIN:DAYLIGHT
TZOFFSETFROM:+0100
TZOFFSETTO:+0200
TZNAME:CEST
DTSTART:20240331T010000
END:DAYLIGHT
BEGIN:STANDARD
TZOFFSETFROM:+0200
TZOFFSETTO:+0100
TZNAME:CET
DTSTART:20241027T010000
END:STANDARD
END:VTIMEZONE
BEGIN:VEVENT
DTSTART;TZID=Europe/Paris:20240520T093000
DTEND;TZID=Europe/Paris:20240520T170000
DTSTAMP:20260423T040410
CREATED:20240513T091053Z
LAST-MODIFIED:20240513T091053Z
UID:7847-1716197400-1716224400@monts-actus.fr
SUMMARY:La Friperie
DESCRIPTION:Friperie à Saint Martin en Haut – Lundi 20 mai 2024 \nOrganisée par Ecolline \nRendez-vous de 9 h 30 à 17 h à l’Ecole Ecolline\, 340 chemin de la Courbière. \nVente de vêtements et accessoires de seconde main pour toute la famille. \nEntrée libre. \nVente de crêpes. \n 
URL:https://monts-actus.fr/agenda/la-friperie/
LOCATION:Saint-Martin-en-Haut\, 69850\, France
CATEGORIES:Saint-Martin-en-Haut
ATTACH;FMTTYPE=image/jpeg:https://monts-actus.fr/wp-content/uploads/2024/05/Friperie-Saint-Martin-en-Haut-20-mai-2024-Monts-Actus.jpg
END:VEVENT
END:VCALENDAR