BEGIN:VCALENDAR
VERSION:2.0
PRODID:-//Monts Actus - ECPv5.16.1//NONSGML v1.0//EN
CALSCALE:GREGORIAN
METHOD:PUBLISH
X-ORIGINAL-URL:https://monts-actus.fr
X-WR-CALDESC:Events for Monts Actus
REFRESH-INTERVAL;VALUE=DURATION:PT1H
X-Robots-Tag:noindex
X-PUBLISHED-TTL:PT1H
BEGIN:VTIMEZONE
TZID:Europe/Paris
BEGIN:DAYLIGHT
TZOFFSETFROM:+0100
TZOFFSETTO:+0200
TZNAME:CEST
DTSTART:20240331T010000
END:DAYLIGHT
BEGIN:STANDARD
TZOFFSETFROM:+0200
TZOFFSETTO:+0100
TZNAME:CET
DTSTART:20241027T010000
END:STANDARD
END:VTIMEZONE
BEGIN:VEVENT
DTSTART;TZID=Europe/Paris:20240607T190000
DTEND;TZID=Europe/Paris:20240607T190000
DTSTAMP:20260423T022028
CREATED:20240603T074424Z
LAST-MODIFIED:20240603T074634Z
UID:8048-1717786800-1717786800@monts-actus.fr
SUMMARY:Tournoi de Pétanque de l'ASSM
DESCRIPTION:Tournoi de Pétanque de l’ASSM à Saint-Martin-en-Haut / Vendredi 7 juin 2024 \nLe Club de foot vous donne rendez-vous sur le stade municipal de Saint-Martin-en-Haut. \nLes inscriptions se feront sur place à partir de 18 h. \nDébut des parties à 19 h. \nPrix : 14 € la doublette
URL:https://monts-actus.fr/agenda/tournoi-de-petanque-de-lassm/
LOCATION:Saint-Martin-en-Haut\, 69850\, France
CATEGORIES:Saint-Martin-en-Haut
ATTACH;FMTTYPE=image/jpeg:https://monts-actus.fr/wp-content/uploads/2024/06/Petanque-Saint-Martin-en-Haut-7-juin-2024-Monts-Actus.jpg
END:VEVENT
END:VCALENDAR