BEGIN:VCALENDAR
VERSION:2.0
PRODID:-//Monts Actus - ECPv5.16.1//NONSGML v1.0//EN
CALSCALE:GREGORIAN
METHOD:PUBLISH
X-WR-CALNAME:Monts Actus
X-ORIGINAL-URL:https://monts-actus.fr
X-WR-CALDESC:Events for Monts Actus
REFRESH-INTERVAL;VALUE=DURATION:PT1H
X-Robots-Tag:noindex
X-PUBLISHED-TTL:PT1H
BEGIN:VTIMEZONE
TZID:Europe/Paris
BEGIN:DAYLIGHT
TZOFFSETFROM:+0100
TZOFFSETTO:+0200
TZNAME:CEST
DTSTART:20240331T010000
END:DAYLIGHT
BEGIN:STANDARD
TZOFFSETFROM:+0200
TZOFFSETTO:+0100
TZNAME:CET
DTSTART:20241027T010000
END:STANDARD
END:VTIMEZONE
BEGIN:VEVENT
DTSTART;TZID=Europe/Paris:20240608T140000
DTEND;TZID=Europe/Paris:20240608T140000
DTSTAMP:20260423T021900
CREATED:20240604T112941Z
LAST-MODIFIED:20240604T113526Z
UID:8096-1717855200-1717855200@monts-actus.fr
SUMMARY:La Transhumance de l'Humour - 8ème édition
DESCRIPTION:La Transhumance de l’Humour à Saint-Martin-en-Haut / Samedi 8 juin 2024 \nLa Tanière du Père bleu\, café-théâtre\, vous propose cette année un nouveau parcours. \nDépart à 14 h de la salle des Arcades\, rue de la Mairie.\nEn route\, 2 arrêts pour se restaurer et découvrir 2 spectacles d’improvisation au bord du chemin\, dans des lieux choisis avec soin pour votre plus grand plaisir. \nArrivée vers 19 h pour un repas campagnard (jambon au foin avec pommes de terre\, fromages\, desserts). \nA 21 h : Les Jumeaux avec leur spectacle « Bonjour\, au revoir\, s’il vous plait\, merci « .\nA la fin du spectacle\, des minibus redescendront les personnes qui auront fait la Transhumance à Saint-Martin-en-Haut. \nPrix : \n\nLa Transhumance : 12 € et 10 € pour les enfants de -12 ans\nLe repas : 12 € et 10 € pour les enfants de -12 ans\nLe spectacle du soir : 20 € et 15 € pour les enfants de -12 ans\n\nLES PACKS : \n\nPack 1 : Le repas + le spectacle: 30 € et 20 € pour les enfants de -12 ans\nPack 2 : La transhumance + le repas + le spectacle: 40 € et 25 € pour les enfants de -12 ans\n\nRenseignements et réservation (obligatoire) auprès de Thierry au 06.17.19.16.98 \n  \n 
URL:https://monts-actus.fr/agenda/la-transhumance-de-lhumour-8eme-edition/
LOCATION:Saint-Martin-en-Haut\, 69850\, France
CATEGORIES:Saint-Martin-en-Haut
ATTACH;FMTTYPE=image/jpeg:https://monts-actus.fr/wp-content/uploads/2024/06/La-transhumance-de-lhumour-Saint-Martin-en-Haut-8-juin-2024-Monts-Actus.jpg
END:VEVENT
BEGIN:VEVENT
DTSTART;TZID=Europe/Paris:20240608T210000
DTEND;TZID=Europe/Paris:20240608T210000
DTSTAMP:20260423T021900
CREATED:20240513T123347Z
LAST-MODIFIED:20240514T131259Z
UID:7857-1717880400-1717880400@monts-actus.fr
SUMMARY:Concert "Sang Pour Sang Hallyday"
DESCRIPTION:Concert « Sang Pour Sang Hallyday » à Saint-Martin-en-Haut – Samedi 8 Juin 2024 \nRendez-vous à la salle des fêtes\, place du Plon\, de Saint-Martin-en-Haut à 21 h. \nOrganisation : La Soyeuse\, Ferme Brasserie Rontalon \nStéphane SAURA\, chanteur à la voix charismatique\, reprend les plus grands succès du taulier de la scène rock française. \nTribute 100% live\, sans imitation ni caricature. Répertoire de 19 chansons composé de grands succès réorchestrés et de titres méconnus. Ce spectacle est jalonné de textes\, rendant hommage à ceux qui ont influencé la carrière de Johnny (Jimmy Hendrix\, Elvis\, Michel Berger…). \nLaissant une grande place au 70’s (Requiem Pour Un Fou\, Fils De Personne\, Voyage Au Pays Des Vivants…) Des œuvres plus récentes comme L’Envie\, Quelques Cris ou Allumer Le Feu\, constituent le répertoire. Un medley instrumental laisse toute la place au public qui entonne les succès des années 60\, un duo virtuel avec Michel Berger précède une interprétation poignante de Diégo. La voix de Sylvie Vartan résonne en introduction de Que Je T’aime… \nPrix :\nEntrée + 1 conso : 22 € (adulte) – 16 € (pour les – 12 ans) \nRéservation conseillée sur billetweb ou au 06 31 25 17 84 \nVous trouverez sur le site : le dossier de presse\, où vous pourrez constater le succès croissant du « Tribute to Johnny » dans la France entière. \nPlus d’informations sur : www.sangpoursanghallyday.com 
URL:https://monts-actus.fr/agenda/concert-sang-pour-sang-hallyday/
LOCATION:Saint-Martin-en-Haut\, 69850\, France
CATEGORIES:Saint-Martin-en-Haut
ATTACH;FMTTYPE=image/jpeg:https://monts-actus.fr/wp-content/uploads/2024/05/Sang-pour-sang-Hallyday-Saint-Martin-en-Haut-8-juin-2024-Monts-Actus.jpg
END:VEVENT
END:VCALENDAR