BEGIN:VCALENDAR
VERSION:2.0
PRODID:-//Monts Actus - ECPv5.16.1//NONSGML v1.0//EN
CALSCALE:GREGORIAN
METHOD:PUBLISH
X-WR-CALNAME:Monts Actus
X-ORIGINAL-URL:https://monts-actus.fr
X-WR-CALDESC:Events for Monts Actus
REFRESH-INTERVAL;VALUE=DURATION:PT1H
X-Robots-Tag:noindex
X-PUBLISHED-TTL:PT1H
BEGIN:VTIMEZONE
TZID:Europe/Paris
BEGIN:DAYLIGHT
TZOFFSETFROM:+0100
TZOFFSETTO:+0200
TZNAME:CEST
DTSTART:20240331T010000
END:DAYLIGHT
BEGIN:STANDARD
TZOFFSETFROM:+0200
TZOFFSETTO:+0100
TZNAME:CET
DTSTART:20241027T010000
END:STANDARD
END:VTIMEZONE
BEGIN:VEVENT
DTSTART;TZID=Europe/Paris:20240711T180000
DTEND;TZID=Europe/Paris:20240711T180000
DTSTAMP:20260423T003436
CREATED:20240618T102505Z
LAST-MODIFIED:20240618T104958Z
UID:8204-1720720800-1720720800@monts-actus.fr
SUMMARY:Inauguration Expo "La boule déboule" et "Les Olympiques des Monts"
DESCRIPTION:Inauguration de l’exposition « La boule déboule » et « Les Olympiques des Monts » à Saint-Martin-en-Haut / Jeudi 11 juillet 2024 \nL’Association ARPAMOLY (Art et Patrimoine des Monts du Lyonnais)\, et plus particulièrement la Commission Patrimoine\, vous invite à l’inauguration commune de sa nouvelle exposition temporaire « La boule déboule »\, ainsi que de la salle de jeux « Les Olympiques des Monts ». \nJeudi 11 Juillet\, à 18h\, à la Maison de Pays des Monts du Lyonnais\, à Saint-Martin-en-Haut. \nCérémonie conviviale et récréative. \n* * * * * * * * * * \nSalle Patrimoine : Exposition « La boule déboule » du 22 Juin au 1er Décembre 2024\n \nCe thème a été choisi en guise de clin d’œil au 96ème Championnat de France de Sport Boules qui aura lieu du 19 au 21 Juillet 2024\, sur notre territoire. \nSalle Territoire : Salle de jeux « Les Olympiques des Monts » du 12 Juillet au 25 Août 2024\n \nC’est l’occasion de faire le lien avec les Jeux Olympiques en France\, sur notre territoire : Les Olympiques des Monts\, la salle de jeux incontournable de l’été ! \n  \n  \n 
URL:https://monts-actus.fr/agenda/inauguration-la-boule-deboule-et-les-olympiques-des-monts/
LOCATION:Maison de Pays\, Saint-Martin-en-Haut\, 69850\, France
CATEGORIES:Saint-Martin-en-Haut
ATTACH;FMTTYPE=image/jpeg:https://monts-actus.fr/wp-content/uploads/2024/06/Inauguration-commune-Saint-Martin-en-haut-11-juillet-2024-Monts-Actus.jpg
END:VEVENT
END:VCALENDAR