BEGIN:VCALENDAR
VERSION:2.0
PRODID:-//Monts Actus - ECPv5.16.1//NONSGML v1.0//EN
CALSCALE:GREGORIAN
METHOD:PUBLISH
X-WR-CALNAME:Monts Actus
X-ORIGINAL-URL:https://monts-actus.fr
X-WR-CALDESC:Events for Monts Actus
REFRESH-INTERVAL;VALUE=DURATION:PT1H
X-Robots-Tag:noindex
X-PUBLISHED-TTL:PT1H
BEGIN:VTIMEZONE
TZID:Europe/Paris
BEGIN:DAYLIGHT
TZOFFSETFROM:+0100
TZOFFSETTO:+0200
TZNAME:CEST
DTSTART:20240331T010000
END:DAYLIGHT
BEGIN:STANDARD
TZOFFSETFROM:+0200
TZOFFSETTO:+0100
TZNAME:CET
DTSTART:20241027T010000
END:STANDARD
END:VTIMEZONE
BEGIN:VEVENT
DTSTART;TZID=Europe/Paris:20240713T180000
DTEND;TZID=Europe/Paris:20240713T180000
DTSTAMP:20260423T003436
CREATED:20240701T093725Z
LAST-MODIFIED:20240711T115139Z
UID:8336-1720893600-1720893600@monts-actus.fr
SUMMARY:Soirée des Pompiers à Saint-Martin-en-Haut
DESCRIPTION:Soirée des Pompiers à Saint-Martin-en-Haut / Samedi 13 juillet 2024 \nLes sapeurs-pompiers de Saint-Martin-en-Haut organisent leur traditionnelle soirée des pompiers !  \nRendez-vous sur la place du Plon à partir de 18 h ! \nAu programme : repas sur préventes (jambon au foin\, gratin dauphinois\, fromage et tarte aux fruits)\, soirée animée et feu d’artifice ! \nEgalement sur place : barbecue\, frites\, bières artisanales\, vins\, et bar à spritz ! \nPré-vente : Pompiers de Saint Martin en Haut\, LE RELAIS DES BERGERS\, Viand’Art Le P’tit\, et très prochainement au Bar les Fagotiers !
URL:https://monts-actus.fr/agenda/soiree-des-pompiers-a-saint-martin-en-haut/
LOCATION:Saint-Martin-en-Haut\, 69850\, France
CATEGORIES:Saint-Martin-en-Haut
ATTACH;FMTTYPE=image/jpeg:https://monts-actus.fr/wp-content/uploads/2024/07/Soiree-des-pompiers-Saint-Martin-en-Haut-13-juillet-2024-Monts-Actus.jpg
END:VEVENT
END:VCALENDAR