BEGIN:VCALENDAR
VERSION:2.0
PRODID:-//Monts Actus - ECPv5.16.1//NONSGML v1.0//EN
CALSCALE:GREGORIAN
METHOD:PUBLISH
X-ORIGINAL-URL:https://monts-actus.fr
X-WR-CALDESC:Events for Monts Actus
REFRESH-INTERVAL;VALUE=DURATION:PT1H
X-Robots-Tag:noindex
X-PUBLISHED-TTL:PT1H
BEGIN:VTIMEZONE
TZID:Europe/Paris
BEGIN:DAYLIGHT
TZOFFSETFROM:+0100
TZOFFSETTO:+0200
TZNAME:CEST
DTSTART:20240331T010000
END:DAYLIGHT
BEGIN:STANDARD
TZOFFSETFROM:+0200
TZOFFSETTO:+0100
TZNAME:CET
DTSTART:20241027T010000
END:STANDARD
END:VTIMEZONE
BEGIN:VEVENT
DTSTART;VALUE=DATE:20240921
DTEND;VALUE=DATE:20240923
DTSTAMP:20260422T211201
CREATED:20240724T080818Z
LAST-MODIFIED:20240902T130551Z
UID:8589-1726876800-1727049599@monts-actus.fr
SUMMARY:Foire économique des Monts du Lyonnais
DESCRIPTION:Foire économique des Monts du Lyonnais à Saint-Martin-en-Haut / Du samedi 21 au dimanche 22 septembre 2024 \nLa Foire des Monts du Lyonnais\, le rendez-vous régional de l’agriculture\, du commerce et de l’artisanat à Saint Martin en Haut ! \nExpositions agricoles\, mini ferme\, stands en tous genres (objets\, vêtements\, nourriture)\, animations pour la population\, restaurations et buvettes. \nAu coeur du village\, découvrez de nombreux stands : artisans du bâtiment\, matériel agricole\, véhicules automobiles\, marché forrain. Un marché fermier se tiendra sur la place de l’église et sera accompagné des animaux de la ferme ainsi que de nombreux producteurs locaux. \nAnimations culturelles et pour les enfants\, sans oublier l’exposition de véhicules de collection ! \nAu programme : \nSamedi 21/09\n8 h 00 – Ouverture de la Foire\n10 h 30 – Inauguration avec défilé et fanfare \nDimanche 22/09\nA partir de 8 h 00 – Soupe aux choux \nAccès libre. \n 
URL:https://monts-actus.fr/agenda/foire-economique-des-monts-du-lyonnais/
LOCATION:Saint-Martin-en-Haut\, 69850\, France
CATEGORIES:Saint-Martin-en-Haut
ATTACH;FMTTYPE=image/jpeg:https://monts-actus.fr/wp-content/uploads/2024/07/Foire-des-Monts-du-Lyonnais-21-et-22-septembre-2024-Monts-Actus.jpg
END:VEVENT
END:VCALENDAR