BEGIN:VCALENDAR
VERSION:2.0
PRODID:-//Monts Actus - ECPv5.16.1//NONSGML v1.0//EN
CALSCALE:GREGORIAN
METHOD:PUBLISH
X-ORIGINAL-URL:https://monts-actus.fr
X-WR-CALDESC:Events for Monts Actus
REFRESH-INTERVAL;VALUE=DURATION:PT1H
X-Robots-Tag:noindex
X-PUBLISHED-TTL:PT1H
BEGIN:VTIMEZONE
TZID:Europe/Paris
BEGIN:DAYLIGHT
TZOFFSETFROM:+0100
TZOFFSETTO:+0200
TZNAME:CEST
DTSTART:20240331T010000
END:DAYLIGHT
BEGIN:STANDARD
TZOFFSETFROM:+0200
TZOFFSETTO:+0100
TZNAME:CET
DTSTART:20241027T010000
END:STANDARD
END:VTIMEZONE
BEGIN:VEVENT
DTSTART;TZID=Europe/Paris:20240929T083000
DTEND;TZID=Europe/Paris:20240929T083000
DTSTAMP:20260422T211201
CREATED:20240918T133400Z
LAST-MODIFIED:20240918T133613Z
UID:9002-1727598600-1727598600@monts-actus.fr
SUMMARY:Rando gourmande à Saint-Martin-en-Haut
DESCRIPTION:Rando gourmande à Saint-Martin-en-Haut / Dimanche 29 septembre 2024 \nPremière édition de la “Rando gourmande” de Saint-Martin-en-Haut\, dans les Monts du Lyonnais ! \nLe parcours de 9 km (qui passe par le site de l’école en forêt) est jalonné de 5 stands de producteurs et productrices du coin. Vous pourrez déguster de délicieux produits et acheter ceux qui vous ont plu pour les récupérer à l’arrivée. \nDépart et arrivée : parking du Mad à partir de 8 h 30 \nTarifs : 10 € par adulte et 5 € par enfant jusqu’à 10 ans \nPensez à un gobelet ou éco-cup par personne\, aux gourdes remplies \nInscription obligatoire.
URL:https://monts-actus.fr/agenda/rando-gourmande-a-saint-martin-en-haut/
LOCATION:Saint-Martin-en-Haut\, 69850\, France
CATEGORIES:Saint-Martin-en-Haut
ATTACH;FMTTYPE=image/webp:https://monts-actus.fr/wp-content/uploads/2024/09/Rando-gourmande-saint-martin-en-haut-29-septembre-2024-Monts-Actus.webp
END:VEVENT
END:VCALENDAR