BEGIN:VCALENDAR
VERSION:2.0
PRODID:-//Monts Actus - ECPv5.16.1//NONSGML v1.0//EN
CALSCALE:GREGORIAN
METHOD:PUBLISH
X-ORIGINAL-URL:https://monts-actus.fr
X-WR-CALDESC:Events for Monts Actus
REFRESH-INTERVAL;VALUE=DURATION:PT1H
X-Robots-Tag:noindex
X-PUBLISHED-TTL:PT1H
BEGIN:VTIMEZONE
TZID:Europe/Paris
BEGIN:DAYLIGHT
TZOFFSETFROM:+0100
TZOFFSETTO:+0200
TZNAME:CEST
DTSTART:20240331T010000
END:DAYLIGHT
BEGIN:STANDARD
TZOFFSETFROM:+0200
TZOFFSETTO:+0100
TZNAME:CET
DTSTART:20241027T010000
END:STANDARD
END:VTIMEZONE
BEGIN:VEVENT
DTSTART;TZID=Europe/Paris:20240310T140000
DTEND;TZID=Europe/Paris:20240310T140000
DTSTAMP:20260419T195251
CREATED:20240305T093135Z
LAST-MODIFIED:20240305T102743Z
UID:7070-1710079200-1710079200@monts-actus.fr
SUMMARY:Loto à Sainte-Catherine
DESCRIPTION:Loto de l’école Saint Jean Pierre Néel – Dimanche 10 mars 2024 – Sainte-Catherine \nÀ partir de 14 h à la salle des fêtes \nPrix : 3\,50 € le carton\, 15 € les 5 \nBuvette et pâtisseries sur place. \nDe nombreux lots à gagner ! 
URL:https://monts-actus.fr/agenda/loto-a-sainte-catherine/
LOCATION:Sainte-Catherine
CATEGORIES:Sainte-Catherine
ATTACH;FMTTYPE=image/jpeg:https://monts-actus.fr/wp-content/uploads/2024/03/Loto-Sainte-Catherine-10-mars-2024-Monts-Actus.jpg
END:VEVENT
END:VCALENDAR