BEGIN:VCALENDAR
VERSION:2.0
PRODID:-//Monts Actus - ECPv5.16.1//NONSGML v1.0//EN
CALSCALE:GREGORIAN
METHOD:PUBLISH
X-ORIGINAL-URL:https://monts-actus.fr
X-WR-CALDESC:Events for Monts Actus
REFRESH-INTERVAL;VALUE=DURATION:PT1H
X-Robots-Tag:noindex
X-PUBLISHED-TTL:PT1H
BEGIN:VTIMEZONE
TZID:Europe/Paris
BEGIN:DAYLIGHT
TZOFFSETFROM:+0100
TZOFFSETTO:+0200
TZNAME:CEST
DTSTART:20240331T010000
END:DAYLIGHT
BEGIN:STANDARD
TZOFFSETFROM:+0200
TZOFFSETTO:+0100
TZNAME:CET
DTSTART:20241027T010000
END:STANDARD
END:VTIMEZONE
BEGIN:VEVENT
DTSTART;TZID=Europe/Paris:20240630T103000
DTEND;TZID=Europe/Paris:20240630T190000
DTSTAMP:20260421T104413
CREATED:20240624T091327Z
LAST-MODIFIED:20240624T091924Z
UID:8262-1719743400-1719774000@monts-actus.fr
SUMMARY:Kermesse et fête foraine
DESCRIPTION:Kermesse et fête foraine à Sainte-Catherine / Dimanche 30 juin 2024 \nL’OGEC et l’AGPOSEC vous donnent rendez-vous au stade de Sainte-Catherine\, route du Barrot de 10 h 30 à 19 h pour cette fête d’été conviviale ! \nAu programme : \n10 h 30 : Spectacle des enfants de l’école Saint Jean-Pierre Néel (gratuit). \n12 h 00 : Repas sur place ou à emporter (salade\, jambon à la broche\, râpée de pommes de terre\, fromage\, dessert) – 15 € \n14 h 00 : Concours de pétanque et concours de belote (15 € la doublette avec sandwich\, toutes les doublettes sont primées). \nToute la journée : Fête foraine avec structures gonflables\, trampolines géants\, pêche aux canards\, jeux en bois\, gouters et barbe à papa.
URL:https://monts-actus.fr/agenda/kermesse-et-fete-foraine/
LOCATION:Sainte-Catherine
CATEGORIES:Sainte-Catherine
ATTACH;FMTTYPE=image/jpeg:https://monts-actus.fr/wp-content/uploads/2024/06/Kermesse-et-fete-foraine-Sainte-Catherine-30-juin-2024-Monts-Actus.jpg
END:VEVENT
END:VCALENDAR