BEGIN:VCALENDAR
VERSION:2.0
PRODID:-//Monts Actus - ECPv5.16.1//NONSGML v1.0//EN
CALSCALE:GREGORIAN
METHOD:PUBLISH
X-ORIGINAL-URL:https://monts-actus.fr
X-WR-CALDESC:Events for Monts Actus
REFRESH-INTERVAL;VALUE=DURATION:PT1H
X-Robots-Tag:noindex
X-PUBLISHED-TTL:PT1H
BEGIN:VTIMEZONE
TZID:Europe/Paris
BEGIN:DAYLIGHT
TZOFFSETFROM:+0100
TZOFFSETTO:+0200
TZNAME:CEST
DTSTART:20240331T010000
END:DAYLIGHT
BEGIN:STANDARD
TZOFFSETFROM:+0200
TZOFFSETTO:+0100
TZNAME:CET
DTSTART:20241027T010000
END:STANDARD
END:VTIMEZONE
BEGIN:VEVENT
DTSTART;TZID=Europe/Paris:20240601T120000
DTEND;TZID=Europe/Paris:20240601T230000
DTSTAMP:20260422T141558
CREATED:20240515T135354Z
LAST-MODIFIED:20240515T135634Z
UID:7904-1717243200-1717282800@monts-actus.fr
SUMMARY:Fête de la bière des Monts du Lyonnais 2024
DESCRIPTION:Fête de la bière des Monts du Lyonnais à Thurins – Samedi 1er juin 2024 \nOrganisation par AD2J69 THURINS \nVenez déguster les bières locales à partir de 12 h au centre du village ! \nRepas midi et soir : cochon à la broche. \nProfitez également des animations :\n* Jeux pour enfants\,* Démonstrations de Judo\, JJB\, MMA\, Fighthing Système et Duo Système. \nDivers groupes de musiques de styles différents se succéderont. \nVous trouverez également sur place un petit marché local. \nRestauration sur place. \nInfos : fdbdesmontsdulyonnais@gmail.com \n 
URL:https://monts-actus.fr/agenda/fete-de-la-biere-des-monts-du-lyonnais-2024/
LOCATION:Thurins
CATEGORIES:Thurins
ATTACH;FMTTYPE=image/jpeg:https://monts-actus.fr/wp-content/uploads/2024/05/Fete-de-la-biere-des-Monts-du-Lyonnais-Thurins-1er-juin-2024-Monts-Actus.jpg
END:VEVENT
END:VCALENDAR