BEGIN:VCALENDAR
VERSION:2.0
PRODID:-//Monts Actus - ECPv5.16.1//NONSGML v1.0//EN
CALSCALE:GREGORIAN
METHOD:PUBLISH
X-WR-CALNAME:Monts Actus
X-ORIGINAL-URL:https://monts-actus.fr
X-WR-CALDESC:Events for Monts Actus
REFRESH-INTERVAL;VALUE=DURATION:PT1H
X-Robots-Tag:noindex
X-PUBLISHED-TTL:PT1H
BEGIN:VTIMEZONE
TZID:Europe/Paris
BEGIN:DAYLIGHT
TZOFFSETFROM:+0100
TZOFFSETTO:+0200
TZNAME:CEST
DTSTART:20240331T010000
END:DAYLIGHT
BEGIN:STANDARD
TZOFFSETFROM:+0200
TZOFFSETTO:+0100
TZNAME:CET
DTSTART:20241027T010000
END:STANDARD
END:VTIMEZONE
BEGIN:VEVENT
DTSTART;TZID=Europe/Paris:20240825T073000
DTEND;TZID=Europe/Paris:20240825T120000
DTSTAMP:20260422T041431
CREATED:20240725T093805Z
LAST-MODIFIED:20240725T095601Z
UID:8622-1724571000-1724587200@monts-actus.fr
SUMMARY:Randonnée de la Milotte à Villechenève
DESCRIPTION:Randonnée de la Milotte à Villechenève – Dimanche 25 août 2024 \nRendez-vous à la Salle polyvalente\, Le Bourg\, 69770 Villechenève pour l’inscription (de 7 h 30 à 12 h) \nMarche organisée par les Randonneurs de la Milotte. 🥾 \nCircuits de 8\, 13\, 18 et 25 km. \nViennoiserie et café au départ jusqu’à 10 h\, ravitaillement sur tous les circuits. Apporter son gobelet. \nPrix : 6 € et 10 € selon le circuit. \nUne partie des bénéfices seront versés au Centre Léon Bérard.
URL:https://monts-actus.fr/agenda/randonnee-de-la-milotte-a-villecheneve/
LOCATION:Villechenève
CATEGORIES:Villechenève
ATTACH;FMTTYPE=image/jpeg:https://monts-actus.fr/wp-content/uploads/2024/07/randonnee-de-la-milotte-Villecheneve-25-aout-2024-Monts-Actus.jpg
END:VEVENT
END:VCALENDAR